BEGIN:VCALENDAR
VERSION:2.0
CALSCALE:GREGORIAN
PRODID:adamgibbons/ics
METHOD:PUBLISH
X-PUBLISHED-TTL:PT1H
BEGIN:VEVENT
UID:50@dubagenda.top
SUMMARY:Give Jah The Glory #24
DTSTAMP:20260421T153355Z
DTSTART:20251101T210000Z
DTEND:20251102T030000Z
DESCRIPTION:A l’occasion de la célébration du couronnement de Sa Majesté Im
	périale Hailé\nSélassié et de Sa Majesté Impériale Menen Asfaw\, l’associa
	tion Zion Gate\nprésente la 24ème édition de Give Jah The Glory\nZion Gate
	 Hi-Fi est un sound system nantais\, pionnier de la scène reggae\nfrançais
	e. Il est composé de Ras Abubakar à la sélection\, de Mark Mostec à\nl’opé
	ration\, de I Youth Tubby aux effets spéciaux et de Prince à l’animation. 
	Il\ns’agit d’un sound system résolument “Roots & Culture”\, dédié à la cul
	ture\nRastafari.\nhttps://youtu.be/ORtq3hN7zr4?si=Mp3_Qa2AmaVBK4kt [https:
	//]\nHigh Bass Sound System est un sound system parisien\, créé en 2005 à 
	l’initiative\nde Papa Jack et Zefyko. Ils sont également à l’origine du la
	bel et\ncollectif Upfull Posse. Le registre de leur sélection couvre 50 an
	s de musique\njamaïcaine\, qu’il s’agissede disques rares\, de dub plates 
	ou de classiques\n“Roots”.\nhttps://youtu.be/okCZYfKYpvA?si=-_PDP9UXZWWEiZ
	s0 [https://]\nD.S est la violoniste et chanteuse du groupe Radio Byzance.
	 Après une formation\nclassique\, puis jazz\, elle s’initie aux sonorités 
	balkaniques pendant deux ans\nen Serbie. Elle découvre alors le sound syst
	em reggae et apprend à se poser sur\nles riddims sur la scène tourangelle.
	 Elle figure avec son violon\nsur le prochain album de Soom T.\nNatty est 
	le tromboniste et l’un des sélecteurs du sound system tourangeau Wise\nGar
	den. Il joue aussi régulièrement depuis plusieurs années avec Zion Gate\nH
	i-Fi.\nKrone est un musicien multi -instrumentiste et créateur aux côtés d
	e Matéo du\nlabel Ting -A - Ling pour lequel il compose de nombreux riddim
	s.\nIl est lui aussi présent aux côtés de Zion Gate Hi-Fi depuis plusieurs
	 années.\nIl sera au piano à cette occasion.\nhttps://youtu.be/NqmZcWe4nF4
	?si=MvfjdWMddbu-l2Bg [https://]\n\n\n\nhttps://www.helloasso.com/associati
	ons/zion-gate-association/evenements/give-jah-the-glory-2025-24\n[https://
	www.helloasso.com/associations/zion-gate-association/evenements/give-jah-t
	he-glory-2025-24]\n\n
URL:https://dubagenda.top/event/give-jah-the-glory-24
GEO:47.2012309;-1.5728972
LOCATION:44200 Nantes // Warehouse - 21\, Quai des Antilles\, Sainte-Anne -
	 Zone portuaire\, Île de Nantes\, Nantes\, Loire-Atlantique\, Pays de la L
	oire\, France métropolitaine\, 44200\, France
STATUS:CONFIRMED
CATEGORIES:2025,Nantes,Sound System
X-ALT-DESC;FMTTYPE=text/html:<p> A l’occasion de la célébration du couronne
	ment de Sa Majesté Impériale Hailé Sélassié et de Sa Majesté Impériale Men
	en Asfaw, l’association Zion Gate présente la 24ème édition de Give Jah Th
	e Glory<br>Zion Gate Hi-Fi est un sound system nantais, pionnier de la scè
	ne reggae française. Il est composé de Ras Abubakar à la sélection, de Mar
	k Mostec à l’opération, de I Youth Tubby aux effets spéciaux et de Prince 
	à l’animation. Il s’agit d’un sound system résolument “Roots &amp; Culture
	”, dédié à la culture Rastafari.<br><a target="_blank" href="https://">htt
	ps://youtu.be/ORtq3hN7zr4?si=Mp3_Qa2AmaVBK4kt</a><br>High Bass Sound Syste
	m est un sound system parisien, créé en 2005 à l’initiative de Papa Jack e
	t Zefyko. Ils sont également à l’origine du label et<br>collectif Upfull P
	osse. Le registre de leur sélection couvre 50 ans de musique jamaïcaine, q
	u’il s’agissede disques rares, de dub plates ou de classiques “Roots”.<br>
	<a target="_blank" href="https://">https://youtu.be/okCZYfKYpvA?si=-_PDP9U
	XZWWEiZs0</a><br>D.S est la violoniste et chanteuse du groupe Radio Byzanc
	e. Après une formation classique, puis jazz, elle s’initie aux sonorités b
	alkaniques pendant deux ans en Serbie. Elle découvre alors le sound system
	 reggae et apprend à se poser sur les riddims sur la scène tourangelle. El
	le figure avec son violon<br>sur le prochain album de Soom T.<br>Natty est
	 le tromboniste et l’un des sélecteurs du sound system tourangeau Wise Gar
	den. Il joue aussi régulièrement depuis plusieurs années avec Zion Gate Hi
	-Fi.<br>Krone est un musicien multi -instrumentiste et créateur aux côtés 
	de Matéo du label Ting -A - Ling pour lequel il compose de nombreux riddim
	s.<br>Il est lui aussi présent aux côtés de Zion Gate Hi-Fi depuis plusieu
	rs années. Il sera au piano à cette occasion.<br><a target="_blank" href="
	https://">https://youtu.be/NqmZcWe4nF4?si=MvfjdWMddbu-l2Bg</a></p><p></p><
	p><a target="_blank" href="https://www.helloasso.com/associations/zion-gat
	e-association/evenements/give-jah-the-glory-2025-24">https://www.helloasso
	.com/associations/zion-gate-association/evenements/give-jah-the-glory-2025
	-24</a></p><p></p>
BEGIN:VALARM
ACTION:DISPLAY
DESCRIPTION:Give Jah The Glory #24
TRIGGER:-PT1H
END:VALARM
END:VEVENT
END:VCALENDAR
