BEGIN:VCALENDAR
VERSION:2.0
CALSCALE:GREGORIAN
PRODID:adamgibbons/ics
METHOD:PUBLISH
X-PUBLISHED-TTL:PT1H
BEGIN:VEVENT
UID:10@dubagenda.top
SUMMARY:Bass Kayak #2 🛶🎶 par Bandicoot HiFi
DTSTAMP:20260421T152026Z
DTSTART:20250801T130000Z
DTEND:20250801T210000Z
DESCRIPTION:https://facebook.com/events/s/bass-kayak-2/1258772909287598/ [h
	ttps://]\n\n🌞 Nouvelle date fixée le 1er Août pour une énième session à la
	 bien aimée\nDrain'Guette du Marillais 🌞\n\n// INFOS //\n🗓️ Vendredi 1er Ao
	ût\n⏱️ 17h / 23h\n🔥 2 basses\n🍺 Bar et restauration sur place\n🌞 Outdoor\n🎟
	 Entrée libre\n📍 Èvre Loisirs NOTRE-DAME-DU-MARILLAIS 49410\n📀 💿\n- Hip ho
	p / Dwinyz\n- Boogiboulga sonore / Gaston\n- Mighty Jazzy\n- Dub / Atom Wi
	se\n🛶 Comme d'hab si t'es tenté par une petite baignade fluviale l'Èvre es
	t au pied\nde la guinguette\, histoire de te rafraîchir en musique pour fê
	ter les vacances\,\npour les plus chanceux 🛶
URL:https://dubagenda.top/event/bass-kayak-2-par-bandicoot-hifi
GEO:47.3601086;-1.0374549
LOCATION:49410 Le Marillais // Drain'Guette - D 751\, La Croix des Brosses\
	, Le Marillais\, Mauges-sur-Loire\, Cholet\, Maine-et-Loire\, Pays de la L
	oire\, France métropolitaine\, 49410\, France
STATUS:CONFIRMED
CATEGORIES:2025,49,Sound System
X-ALT-DESC;FMTTYPE=text/html:<p><a href="https://" target="_blank">https://
	facebook.com/events/s/bass-kayak-2/1258772909287598/</a></p><p>🌞 Nouvelle 
	date fixée le 1er Août pour une énième session à la bien aimée Drain'Guett
	e du Marillais 🌞<br><br>// INFOS //<br>🗓️ Vendredi 1er Août<br>⏱️ 17h / 23h<
	br>🔥 2 basses<br>🍺 Bar et restauration sur place<br>🌞 Outdoor<br>🎟 Entrée 
	libre<br>📍 Èvre Loisirs NOTRE-DAME-DU-MARILLAIS 49410<br>📀 💿<br>- Hip hop 
	/ Dwinyz<br>- Boogiboulga sonore / Gaston<br>- Mighty Jazzy<br>- Dub / Ato
	m Wise<br>🛶 Comme d'hab si t'es tenté par une petite baignade fluviale l'È
	vre est au pied de la guinguette, histoire de te rafraîchir en musique pou
	r fêter les vacances, pour les plus chanceux 🛶 </p>
BEGIN:VALARM
ACTION:DISPLAY
DESCRIPTION:Bass Kayak #2 🛶🎶 par Bandicoot HiFi
TRIGGER:-PT1H
END:VALARM
END:VEVENT
END:VCALENDAR
