BEGIN:VCALENDAR
VERSION:2.0
CALSCALE:GREGORIAN
PRODID:adamgibbons/ics
METHOD:PUBLISH
X-PUBLISHED-TTL:PT1H
BEGIN:VEVENT
UID:188@dubagenda.top
SUMMARY:INVALVED SOCIAL CLUB#20 // ROOTY (stand high records) //  Invalved 
	+ Ace Tone Sound System + Dj Kabba
DTSTAMP:20260421T133635Z
DTSTART:20260430T170000Z
DTEND:20260430T234500Z
URL:https://dubagenda.top/event/invalved-social-club20-rooty-stand-high-rec
	ords-invalved-ace-tone-sound-system-dj-kabba
GEO:47.1949813;-1.556941
LOCATION:44400 Rezé // Cold Crash - Brasserie Nautile\, 4\, Rue du Seil\, L
	e Port Au Blé\, Haute Île\, Rezé\, Nantes\, Loire-Atlantique\, Pays de la 
	Loire\, France métropolitaine\, 44400\, France
STATUS:CONFIRMED
CATEGORIES:44,craftbeer,Dub,Nantes,Reggae,Rezé,Rocksteady,Sound System,stan
	dhighrecords
END:VEVENT
END:VCALENDAR
