BEGIN:VCALENDAR
VERSION:2.0
CALSCALE:GREGORIAN
PRODID:adamgibbons/ics
METHOD:PUBLISH
X-PUBLISHED-TTL:PT1H
BEGIN:VEVENT
UID:148@dubagenda.top
SUMMARY:Shake That Mill #1 // Rumble HiFi
DTSTAMP:20260421T115400Z
DTSTART:20260425T190000Z
DTEND:20260426T010000Z
URL:https://dubagenda.top/event/shake-that-mill-1-rumble-hifi
GEO:47.7726289;-2.1519419
LOCATION:56200 La Gacilly - La Gacilly\, Vannes\, Morbihan\, Bretagne\, Fra
	nce métropolitaine\, 56200\, France
STATUS:CONFIRMED
CATEGORIES:2026,56,Sound System
END:VEVENT
BEGIN:VEVENT
UID:160@dubagenda.top
SUMMARY:Who's The Captn // Erev HiFi
DTSTAMP:20260421T115400Z
DTSTART:20260530T173000Z
DTEND:20260530T220000Z
URL:https://dubagenda.top/event/whos-the-captn-erev-hifi
GEO:47.6818342;-2.7997585
LOCATION:56890 Plescop // Capt'n Hablock - 3\, Rue Blaise Pascal\, Kermaria
	\, Le Goh Lenn\, Plescop\, Vannes\, Morbihan\, Bretagne\, France métropoli
	taine\, 56890\, France
STATUS:CONFIRMED
CATEGORIES:2026,56,Sound System
END:VEVENT
END:VCALENDAR
