BEGIN:VCALENDAR
VERSION:2.0
CALSCALE:GREGORIAN
PRODID:adamgibbons/ics
METHOD:PUBLISH
X-PUBLISHED-TTL:PT1H
BEGIN:VEVENT
UID:169@dubagenda.top
SUMMARY:Dub 3000 par Maree Bass
DTSTAMP:20260421T121447Z
DTSTART:20260423T170000Z
DTEND:20260423T230000Z
URL:https://dubagenda.top/event/dub-3000-par-maree-bass
GEO:47.2111479;-1.5570379
LOCATION:44000 Nantes // Stony Safari - Allée de l'Île Gloriette\, Feydeau\
	, Gloriette - Feydeau\, Centre Ville\, Nantes\, Loire-Atlantique\, Pays de
	 la Loire\, France métropolitaine\, 44262\, France
STATUS:CONFIRMED
CATEGORIES:Nantes,2026,Sound System
END:VEVENT
END:VCALENDAR
