BEGIN:VCALENDAR
VERSION:2.0
CALSCALE:GREGORIAN
PRODID:adamgibbons/ics
METHOD:PUBLISH
X-PUBLISHED-TTL:PT1H
BEGIN:VEVENT
UID:172@dubagenda.top
SUMMARY:Sound Women United
DTSTAMP:20260421T121431Z
DTSTART:20260502T180000Z
DTEND:20260503T013000Z
URL:https://dubagenda.top/event/sound-women-united
GEO:47.2007699;-1.5732795
LOCATION:44200 Nantes // Le Ferailleur - 21\, Quai des Antilles\, Sainte-An
	ne - Zone portuaire\, Île de Nantes\, Nantes\, Loire-Atlantique\, Pays de 
	la Loire\, France métropolitaine\, 44200\, France
STATUS:CONFIRMED
CATEGORIES:Nantes,2026,Sound System
END:VEVENT
END:VCALENDAR
