BEGIN:VCALENDAR
VERSION:2.0
CALSCALE:GREGORIAN
PRODID:adamgibbons/ics
METHOD:PUBLISH
X-PUBLISHED-TTL:PT1H
BEGIN:VEVENT
UID:194@dubagenda.top
SUMMARY:Guinguette de la Pierre Percée
DTSTAMP:20260421T165602Z
DTSTART:20260625T150000Z
DTEND:20260625T200000Z
URL:https://dubagenda.top/event/guinguette-de-la-pierre-percee-1
GEO:47.2864344;-1.3813622
LOCATION:44450 Divatte-Sur-Loire // Guinguette Pierre Percée - Les Levées\,
	 La Chapelle-Basse-Mer\, Divatte-sur-Loire\, Nantes\, Loire-Atlantique\, P
	ays de la Loire\, France métropolitaine\, 44450\, France
STATUS:CONFIRMED
CATEGORIES:Nantes,2026,Sound System,Guinguette
END:VEVENT
END:VCALENDAR
