BEGIN:VCALENDAR
VERSION:2.0
CALSCALE:GREGORIAN
PRODID:adamgibbons/ics
METHOD:PUBLISH
X-PUBLISHED-TTL:PT1H
BEGIN:VEVENT
UID:152@dubagenda.top
SUMMARY:United Vibration #10 // Musically Mad meets Untitled Sound System
DTSTAMP:20260421T134731Z
DTSTART:20260502T180000Z
DTEND:20260503T000000Z
URL:https://dubagenda.top/event/united-vibration-10-musically-mad-meets-unt
	ilted-sound-system
GEO:46.9830205;-1.3245793
LOCATION:85600 Montaigu // Le Zinor - 191\, Rue du Moulin Gros\, Montaigu\,
	 Montaigu-Vendée\, La Roche-sur-Yon\, Vendée\, Pays de la Loire\, France m
	étropolitaine\, 85600\, France
STATUS:CONFIRMED
CATEGORIES:2026,85,Sound System
END:VEVENT
END:VCALENDAR
