BEGIN:VCALENDAR
VERSION:2.0
CALSCALE:GREGORIAN
PRODID:adamgibbons/ics
METHOD:PUBLISH
X-PUBLISHED-TTL:PT1H
BEGIN:VEVENT
UID:166@dubagenda.top
SUMMARY:Bassline Soldiers Sound System
DTSTAMP:20260421T134547Z
DTSTART:20260507T160000Z
DTEND:20260507T220000Z
URL:https://dubagenda.top/event/bassline-soldiers-sound-system
GEO:47.0771943;-1.2927011
LOCATION:44190 Clisson // Les Papas Brasseurs - 4\, Rue du Puits de la Gran
	ge\, Zone d'activité de Tabari\, La Haute Grange\, Clisson\, Nantes\, Loir
	e-Atlantique\, Pays de la Loire\, France métropolitaine\, 44190\, France
STATUS:CONFIRMED
CATEGORIES:Nantes,2026,Sound System
END:VEVENT
END:VCALENDAR
