BEGIN:VCALENDAR
VERSION:2.0
CALSCALE:GREGORIAN
PRODID:adamgibbons/ics
METHOD:PUBLISH
X-PUBLISHED-TTL:PT1H
BEGIN:VEVENT
UID:155@dubagenda.top
SUMMARY:Positive Dubwise Inna Meditate Style #3 MiniSteppaHifi Alongside Ho
	uria Zion
DTSTAMP:20260421T164745Z
DTSTART:20260515T180000Z
DTEND:20260515T224500Z
URL:https://dubagenda.top/event/positive-dubwise-inna-meditate-style-3-mini
	steppahifi-alongside-houria-zion
GEO:47.2043926;-1.5481584
LOCATION:44200 Nantes // BBO café - Rue Petite Biesse\, Les Ponts\, Républi
	que - Les Ponts\, Île de Nantes\, Nantes\, Loire-Atlantique\, Pays de la L
	oire\, France métropolitaine\, 44007\, France
STATUS:CONFIRMED
CATEGORIES:Nantes,2026,Sound System
END:VEVENT
END:VCALENDAR
