BEGIN:VCALENDAR
VERSION:2.0
CALSCALE:GREGORIAN
PRODID:adamgibbons/ics
METHOD:PUBLISH
X-PUBLISHED-TTL:PT1H
BEGIN:VEVENT
UID:174@dubagenda.top
SUMMARY:Step It Up #3 // Jah Militant
DTSTAMP:20260421T170105Z
DTSTART:20260626T180000Z
DTEND:20260627T000000Z
URL:https://dubagenda.top/event/step-it-up-3-jah-militant
GEO:47.155895;-1.3972253
LOCATION:44690 La Haye Fouassière // Espace Sevria - Boulevard Bernard Verl
	ynde\, Hameau des Prunelliers\, La Caillaudière\, La Haie-Fouassière\, Nan
	tes\, Loire-Atlantique\, Pays de la Loire\, France métropolitaine\, 44690\
	, France
STATUS:CONFIRMED
CATEGORIES:Nantes,2026,Sound System
END:VEVENT
END:VCALENDAR
