BEGIN:VCALENDAR
VERSION:2.0
CALSCALE:GREGORIAN
PRODID:adamgibbons/ics
METHOD:PUBLISH
X-PUBLISHED-TTL:PT1H
BEGIN:VEVENT
UID:171@dubagenda.top
SUMMARY:Farm In Dub // Woodstation
DTSTAMP:20260421T172006Z
DTSTART:20260523T170000Z
DTEND:20260524T000000Z
URL:https://dubagenda.top/event/farm-in-dub-woodstation
GEO:47.1952562;-1.261291
LOCATION:44330 Vallet // Ferme de l'Aufrère - C 9\, Braud\, Vallet\, Nantes
	\, Loire-Atlantique\, Pays de la Loire\, France métropolitaine\, 44330\, F
	rance
STATUS:CONFIRMED
CATEGORIES:Nantes,2026,Sound System
END:VEVENT
END:VCALENDAR
