BEGIN:VCALENDAR
VERSION:2.0
CALSCALE:GREGORIAN
PRODID:adamgibbons/ics
METHOD:PUBLISH
X-PUBLISHED-TTL:PT1H
BEGIN:VEVENT
UID:162@dubagenda.top
SUMMARY:Dub Corner #1 // Anima Sound invite Stepper'One & Bassline Soldiers
DTSTAMP:20260421T121601Z
DTSTART:20260502T180000Z
DTEND:20260503T010000Z
URL:https://dubagenda.top/event/dub-corner-1-anima-sound-invite-stepperone
GEO:47.1621215;-1.529695
LOCATION:44400 Rezé // Salle La Robinière - Rue des Poyaux\, Les Retâs\, Re
	zé\, Nantes\, Loire-Atlantique\, Pays de la Loire\, France métropolitaine\
	, 44400\, France
STATUS:CONFIRMED
CATEGORIES:Nantes,2026,Sound System
END:VEVENT
END:VCALENDAR
