BEGIN:VCALENDAR
VERSION:2.0
CALSCALE:GREGORIAN
PRODID:adamgibbons/ics
METHOD:PUBLISH
X-PUBLISHED-TTL:PT1H
BEGIN:VEVENT
UID:154@dubagenda.top
SUMMARY:Le Tempo In Dub #1 // Mini Steppa Hifi alongside Houria Zion
DTSTAMP:20260421T170104Z
DTSTART:20260516T160000Z
DTEND:20260516T220000Z
URL:https://dubagenda.top/event/le-tempo-in-dub-1-mini-steppa-hifi-alongsid
	e-houria-zion
GEO:47.6289365;-1.8328371
LOCATION:44290 Guémené-Penfao // Le Tempo - Rue de l’Épée\, Subrette\, Le B
	out des Ponts\, Guémené-Penfao\, Châteaubriant-Ancenis\, Loire-Atlantique\
	, Pays de la Loire\, France métropolitaine\, 44290\, France
STATUS:CONFIRMED
CATEGORIES:Nantes,2026,Sound System
END:VEVENT
END:VCALENDAR
