BEGIN:VCALENDAR
VERSION:2.0
CALSCALE:GREGORIAN
PRODID:adamgibbons/ics
METHOD:PUBLISH
X-PUBLISHED-TTL:PT1H
BEGIN:VEVENT
UID:149@dubagenda.top
SUMMARY:Syndicate Of Dub #4 // Ataraxy & more
DTSTAMP:20260421T170057Z
DTSTART:20260515T160000Z
DTEND:20260517T160000Z
URL:https://dubagenda.top/event/syndicate-of-dub-4-ataraxy-and-more
GEO:47.6011303;-1.531297
LOCATION:44170 Treffieux // Etang de Gruellau - Étang de Gruellau\, La Muln
	ais\, Treffieux\, Châteaubriant-Ancenis\, Loire-Atlantique\, Pays de la Lo
	ire\, France métropolitaine\, 44170\, France
STATUS:CONFIRMED
CATEGORIES:Nantes,2026,Sound System
END:VEVENT
END:VCALENDAR
