BEGIN:VCALENDAR
VERSION:2.0
CALSCALE:GREGORIAN
PRODID:adamgibbons/ics
METHOD:PUBLISH
X-PUBLISHED-TTL:PT1H
BEGIN:VEVENT
UID:86@dubagenda.top
SUMMARY:Zion Gate HiFi Meets Ital Is Vital #4
DTSTAMP:20260421T141213Z
DTSTART:20251220T190000Z
DTEND:20251221T010000Z
DESCRIPTION:Amatah Keo est un chanteur et\nmulti-instrumentiste basé en Ven
	dée. A l’occasion\nde la sortie de son premier album Sabaï Di\, enregistré
	\nen Espagne par Roberto Sanchez sur le label Lone Ark\,\nAmatah nous prés
	entera ses nouveaux morceaux .\nhttps://alonereggaeshop.bandcamp.com/.../a
	matah-keo-saba-di\n[https://alonereggaeshop.bandcamp.com/.../amatah-keo-sa
	ba-di]\nZion Gate Hi-Fi est un Sound System\nnantais et l'un des plus anci
	ens de l'hexagone\navec une sélection résolument "Roots & Culture"\ndédié 
	à la culture Rastafari. Il est composé de\nRas Abubakar à la sélection\, d
	e I Youth Tubby\nà l’opération & aux effets spéciaux et de Prince\nà l’ani
	mation. Natty sera au trombone et Krone\nau piano.\nhttps://www.youtube.co
	m/watch?v=ORtq3hN7zr4\n[https://www.youtube.com/watch?v=ORtq3hN7zr4]...\nI
	tal Is Vital Hi-Fi est un Sound System\ndont la vocation est de retrouver 
	l'esprit\ndes sonos qui pouvaient jouer à la fin des\nannées 70\, début de
	s années 80 en Jamaïque\net en Angleterre avec le même type d’équipement\n
	qu’à l’époque.\nhttps://www.youtube.com/watch?v=TvKzPlUCZ64&t=101s\n[https
	://www.youtube.com/watch?v=TvKzPlUCZ64&t=101s]
URL:https://dubagenda.top/event/zion-gate-hifi-meets-ital-is-vital-4
GEO:47.1949813;-1.556941
LOCATION:44400 Rezé // Cold Crash - Brasserie Nautile\, 4\, Rue du Seil\, L
	e Port Au Blé\, Haute Île\, Rezé\, Nantes\, Loire-Atlantique\, Pays de la 
	Loire\, France métropolitaine\, 44400\, France
STATUS:CONFIRMED
CATEGORIES:2025,Nantes,Sound System
X-ALT-DESC;FMTTYPE=text/html:<p>Amatah Keo est un chanteur et<br>multi-inst
	rumentiste basé en Vendée. A l’occasion<br>de la sortie de son premier alb
	um Sabaï Di, enregistré<br>en Espagne par Roberto Sanchez sur le label Lon
	e Ark,<br>Amatah nous présentera ses nouveaux morceaux .<br><a target="_bl
	ank" href="https://alonereggaeshop.bandcamp.com/.../amatah-keo-saba-di">ht
	tps://alonereggaeshop.bandcamp.com/.../amatah-keo-saba-di</a><br>Zion Gate
	 Hi-Fi est un Sound System<br>nantais et l'un des plus anciens de l'hexago
	ne<br>avec une sélection résolument "Roots &amp; Culture"<br>dédié à la cu
	lture Rastafari. Il est composé de<br>Ras Abubakar à la sélection, de I Yo
	uth Tubby<br>à l’opération &amp; aux effets spéciaux et de Prince<br>à l’a
	nimation. Natty sera au trombone et Krone<br>au piano.<br><a target="_blan
	k" href="https://www.youtube.com/watch?v=ORtq3hN7zr4">https://www.youtube.
	com/watch?v=ORtq3hN7zr4</a>...<br>Ital Is Vital Hi-Fi est un Sound System<
	br>dont la vocation est de retrouver l'esprit<br>des sonos qui pouvaient j
	ouer à la fin des<br>années 70, début des années 80 en Jamaïque<br>et en A
	ngleterre avec le même type d’équipement<br>qu’à l’époque.<br><a target="_
	blank" href="https://www.youtube.com/watch?v=TvKzPlUCZ64&amp;t=101s">https
	://www.youtube.com/watch?v=TvKzPlUCZ64&amp;t=101s</a></p>
BEGIN:VALARM
ACTION:DISPLAY
DESCRIPTION:Zion Gate HiFi Meets Ital Is Vital #4
TRIGGER:-PT1H
END:VALARM
END:VEVENT
END:VCALENDAR
