BEGIN:VCALENDAR
VERSION:2.0
CALSCALE:GREGORIAN
PRODID:adamgibbons/ics
METHOD:PUBLISH
X-PUBLISHED-TTL:PT1H
BEGIN:VEVENT
UID:100@dubagenda.top
SUMMARY:Youth Collective
DTSTAMP:20260421T151353Z
DTSTART:20251220T190000Z
DTEND:20251221T000000Z
DESCRIPTION:🚨THE LAST OF THE 10th ANNIVERSARY🚨\nPour finir cette belle anné
	e du 10ème anniversaire du Youth Collective on a le\nplaisir de vous propo
	ser une SOLO session avec la sono en 2 basses 🔊\nLa soirée est organisée p
	ar le Cirque de la Guirlande\, à l’occasion de leur\nrésidence pour leur s
	pectacle ARCANÆ nous auront le privilège de clôturer la\nsoirée après leur
	 prestation. D’ailleurs nous vous invitons à profiter de cette\noccasion p
	our venir découvrir leur univers !🎪\nℹ️ 20 DÉCEMBRE / 21h-1h / Prix libre /
	 Quai des Chaps à NANTES (sous chapiteau)
URL:https://dubagenda.top/event/youth-collective
GEO:47.2465568;-1.497463
LOCATION:44300 Nantes // Quai des Chaps - Route de Sainte-Luce\, Le Bois Br
	iand\, Doulon - Bottière\, Nantes\, Loire-Atlantique\, Pays de la Loire\, 
	France métropolitaine\, 44305\, France
STATUS:CONFIRMED
CATEGORIES:2025,Nantes,Sound System
X-ALT-DESC;FMTTYPE=text/html:<p>🚨THE LAST OF THE 10th ANNIVERSARY🚨<br>Pour 
	finir cette belle année du 10ème anniversaire du Youth Collective on a le 
	plaisir de vous proposer une SOLO session avec la sono en 2 basses 🔊<br>La
	 soirée est organisée par le Cirque de la Guirlande, à l’occasion de leur 
	résidence pour leur spectacle ARCANÆ nous auront le privilège de clôturer 
	la soirée après leur prestation. D’ailleurs nous vous invitons à profiter 
	de cette occasion pour venir découvrir leur univers !🎪<br>ℹ️ 20 DÉCEMBRE / 
	21h-1h / Prix libre / Quai des Chaps à NANTES (sous chapiteau)</p>
BEGIN:VALARM
ACTION:DISPLAY
DESCRIPTION:Youth Collective
TRIGGER:-PT1H
END:VALARM
END:VEVENT
END:VCALENDAR
