BEGIN:VCALENDAR
VERSION:2.0
CALSCALE:GREGORIAN
PRODID:adamgibbons/ics
METHOD:PUBLISH
X-PUBLISHED-TTL:PT1H
BEGIN:VEVENT
UID:33@dubagenda.top
SUMMARY:Yous presents Dub Guinguette de la Pierre-Percée
DTSTAMP:20260421T151651Z
DTSTART:20250828T140000Z
DTEND:20250828T200000Z
DESCRIPTION:La dixième et la dernière de la saison 2025 !\n\n\n\nSon dès 16
	h !!!!!!!!!!!!!!!!!!!
URL:https://dubagenda.top/event/yous-presents-dub-guinguette-de-la-pierre-p
	ercee-3
GEO:47.2864344;-1.3813622
LOCATION:44450 Divatte-Sur-Loire // Guinguette Pierre Percée - Les Levées\,
	 La Chapelle-Basse-Mer\, Divatte-sur-Loire\, Nantes\, Loire-Atlantique\, P
	ays de la Loire\, France métropolitaine\, 44450\, France
STATUS:CONFIRMED
CATEGORIES:2025,Nantes,Sound System
X-ALT-DESC;FMTTYPE=text/html:<p>La dixième et la dernière de la saison 2025
	 !</p><p></p><p>Son dès 16h !!!!!!!!!!!!!!!!!!!</p>
BEGIN:VALARM
ACTION:DISPLAY
DESCRIPTION:Yous presents Dub Guinguette de la Pierre-Percée
TRIGGER:-PT1H
END:VALARM
END:VEVENT
END:VCALENDAR
