BEGIN:VCALENDAR
VERSION:2.0
CALSCALE:GREGORIAN
PRODID:adamgibbons/ics
METHOD:PUBLISH
X-PUBLISHED-TTL:PT1H
BEGIN:VEVENT
UID:21@dubagenda.top
SUMMARY:Yous presents Dub Guinguette de la Pierre-Percée
DTSTAMP:20260421T151748Z
DTSTART:20250814T150000Z
DTEND:20250814T200000Z
URL:https://dubagenda.top/event/yous-presents-dub-guinguette-de-la-pierre-p
	ercee-1
GEO:47.2864344;-1.3813622
LOCATION:44450 Divatte-Sur-Loire // Guinguette Pierre Percée - Les Levées\,
	 La Chapelle-Basse-Mer\, Divatte-sur-Loire\, Nantes\, Loire-Atlantique\, P
	ays de la Loire\, France métropolitaine\, 44450\, France
STATUS:CONFIRMED
CATEGORIES:2025,Nantes,Sound System
BEGIN:VALARM
ACTION:DISPLAY
DESCRIPTION:Yous presents Dub Guinguette de la Pierre-Percée
TRIGGER:-PT1H
END:VALARM
END:VEVENT
END:VCALENDAR
