BEGIN:VCALENDAR
VERSION:2.0
CALSCALE:GREGORIAN
PRODID:adamgibbons/ics
METHOD:PUBLISH
X-PUBLISHED-TTL:PT1H
BEGIN:VEVENT
UID:159@dubagenda.top
SUMMARY:Yi Mas Gan on Chicken Inna Box
DTSTAMP:20260421T135121Z
DTSTART:20260410T183000Z
DTEND:20260410T233000Z
DESCRIPTION:Chicken inna box de retour ! Après un rude hiver à hiberner\, à
	 acheter de\nnouveaux disques et à peaufiner la sono\, les poulets dans la
	 boîte reviennent au\nCold Crash en compagnie de @yimasganrecords. La sono
	 sera de sortie dans une\nconfiguration toujours plus wicked pour une séle
	ction encore plus roughhhh.\nRendez-vous le 10 avril à 20h30 à la brasseri
	e Nautile (Cold Crash) à Rezé. 📍\nTram 2 arrêt Pont Rousseau / Bus 36 arrê
	t Croix Jeannette. 5e sur place. Affiche\npar @aubin_lapin en vente à prix
	 libre sur place
URL:https://dubagenda.top/event/yi-mas-gan-on-chicken-inna-box
GEO:47.1949813;-1.556941
LOCATION:44400 Rezé // Cold Crash - Brasserie Nautile\, 4\, Rue du Seil\, L
	e Port Au Blé\, Haute Île\, Rezé\, Nantes\, Loire-Atlantique\, Pays de la 
	Loire\, France métropolitaine\, 44400\, France
STATUS:CONFIRMED
CATEGORIES:Nantes,2026,Sound System
X-ALT-DESC;FMTTYPE=text/html:<p>Chicken inna box de retour ! Après un rude 
	hiver à hiberner, à acheter de nouveaux disques et à peaufiner la sono, le
	s poulets dans la boîte reviennent au Cold Crash en compagnie de @yimasgan
	records. La sono sera de sortie dans une configuration toujours plus wicke
	d pour une sélection encore plus roughhhh. Rendez-vous le 10 avril à 20h30
	 à la brasserie Nautile (Cold Crash) à Rezé. 📍 Tram 2 arrêt Pont Rousseau 
	/ Bus 36 arrêt Croix Jeannette. 5e sur place. Affiche par @aubin_lapin en 
	vente à prix libre sur place</p>
BEGIN:VALARM
ACTION:DISPLAY
DESCRIPTION:Yi Mas Gan on Chicken Inna Box
TRIGGER:-PT1H
END:VALARM
END:VEVENT
END:VCALENDAR
