BEGIN:VCALENDAR
VERSION:2.0
CALSCALE:GREGORIAN
PRODID:adamgibbons/ics
METHOD:PUBLISH
X-PUBLISHED-TTL:PT1H
BEGIN:VEVENT
UID:4@dubagenda.top
SUMMARY:WOOD CORNER #6 - RDH - HOURIA ZION - FREE MEDITATION SOUND SYSTEM
DTSTAMP:20260421T152851Z
DTSTART:20250906T160000Z
DTEND:20250907T040000Z
DESCRIPTION:WOOD CORNER #6 - RDH - HOURIA ZION - FREE MEDITATION SOUND SYST
	EM\n\nPRIVATE SESSION 200 PLACE ⚠️\n\nWOOD CORNER #6\nLa famille Wood Corne
	r est de retour pour sa sixième édition\, avec le fidèle\nFree Méditation 
	Sound System qui fête ses 10 ans cette années !!!!\n\n\nRéservez votre sam
	edi 6 septembre\, on vous prépare un Wood Corner encore plus\nmagique que 
	les précédents . Rendez vous dans notre coin de forêt habituel pour\n12 he
	ures de son\, de danse\, et de partage hors du temps\,\n\n::::::::::::::::
	::::: Roots Reggae Dub :::::::::::::::::::::::::\n::::::::::::::::::::::::
	: Sono 4 Scoops ::::::::::::::::::::::::::\n::::::::::::::::::::: 6 Septem
	bre 2025 :::::::::::::::::::::::\n::::::::::::::::::::::::::::::: 18h – 6h
	 :::::::::::::::::::::::::::::::\n:::::::::::::::::: 200 places maximum ::
	:::::::::::::::::::\n•••••••••••••••••••••••• LINE UP ••••••••••••••••••••
	••••\n\nA l’occasion du dixième anniversaire du Free Meditation Sound Syst
	em\, nous avons\nle plaisir de faire ça en famille avec RDH qui ont beauco
	up aider et inspirer\nFree Meditation à leur début ainsi que Houria Zion \
	, boxwoman de Free Meditation\nfrom long time !!!\n\nFREE MEDITATION FULL 
	SOUND (Nantes)\nProducteurs et sound system Nantais qui promeut la musique
	 reggae roots to dub\nstepper UK depuis 2015. Leurs sélections varient du 
	Roots reggae traditionnel\nformat vinyle\, à des productions maison et dub
	plate en collaborations avec des\nchanteurs comme Ceikaba / Prince Allah/ 
	Kokoa /M-Festa et d'autre encore. Ce qui\nvous emmènent dans une ambiance 
	consciente\, positive\, méditative et libératrice.\nHOURIA ZION (BRETAGNE)
	\nHouria ZION d’origine Nantaise est une passionné de la culture Oldies & 
	Reggae\ndub affinant ça sélection depuis plusieurs année afin de partager 
	sa vibe mystic\net spirituel en session Sound System.\nSon style unique me
	t\nl'accent sur les basses profondes et les rythmes hypnotiques.\nAu fil d
	es années\, Houria Zion a eu l'opportunité de partager sa musique (et des\
	nchroniques sur des artistes féminines) à la Radio Prun’ FM\nAinsi que dan
	s de nombreux lieux Nantais\, tels que Le Férailleur (hangar à\nbanane )\,
	 Les Nantais (Guinguette de « la carrière ») \, Le cabanon à Plocadeuc\nav
	ec Free Meditation Sound System (BRETAGNE ) \, la fête de la musique à Red
	on\navec le crew Rumble Hi Fi\, ainsi que dans de nombreux bars et lieux p
	rivés .\n\nRDH\nDepuis 2011\, RDH Hi-Fi propose une vision originale et tr
	anscendante de\nl’univers sound-system.\n\nAu delà de la mode et des tradi
	tions et s’efforçant depuis le départ de\nparticiper à l’évolution de la c
	ulture dub et Sound-system\, ils proposent une\naventure hors du commun\, 
	dans les pas des pionniers de la musique jamaïcaine. Un\nvoyage qui permet
	 la rencontre des différents styles qui ont marqué l’histoire\ndu reggae r
	oots et du dub\, jusqu’aux productions futuristes et expérimentales\ninspi
	rées de la bass music ou de la techno.\n\nAu travers d’un mix fin et énerg
	ique\, ils proposent une rencontre de ces univers\nmusicaux sur leur point
	 commun : le sound-system !\n\nWarm up: FREE MEDITATION FAMILY ( JOAW/UGO 
	)\nSURPRISE GUESTS : SEKOUZE & KALIZ\n•••••••••••••• INFOS PRATIQUES •••••
	•••••••\nEntrée : 13€ d'adhésion à l’association Free Meditation (Pas de s
	ortie\ndéfinitive au Wood Corner )\n/!\\ Attention pas de CB sur place\, p
	révoyez de l'espèce /!\\\nParking : merci d’utiliser les deux grands parki
	ngs en terre de l’étang Aumée\,\net de laisser libre le petit parking de l
	a plage en gravier. Nous serons là pour\nvous guider à votre arrivée.\nPoi
	nt GPS du parking : 47.603033\,-2.059376\nParkings publics partagés avec l
	es riverains et les promeneurs\, merci de\nrespecter leur calme et leur pr
	opreté\nAccès au site : depuis le parking\, à pieds prendre le chemin de t
	erre qui\ns’enfonce dans la forêt\, de l’autre côté de la route. L’entrée 
	du Wood Corner se\nsitue 200 mètres plus haut\nLes toutous sont autorisés 
	sur le site uniquement tenus en laisse et bien\naccompagnés de leur maître
	 ou maîtresse\nFamilles et enfants bienvenus ! Pensez à prendre des protec
	tions auditives pour\nles plus jeunes skankers d'entre nous\n•••••••••••••
	•••••••• SUR PLACE ••••••••••••••••••••\nBuvette bio\, locale\, artisanale
	\nFoodtruck local (Caradahl foodtruck ?)\nCoin Chill\nToilettes sèches\n••
	•••••••••••••••• IMPORTANT •••••••••••••••••\nPour que le Wood Corner perd
	ure\, merci de respecter la forêt\, les espaces\npublics autour de l’Etang
	 Aumée\, les voisins qui vont entendre leurs fenêtres\nvibrer toute la nui
	t\, les animaux et tous les humains que vous croiserez lors de\ncette nuit
	 magique\nOn compte sur vous\, que des sourires et de la bienveillance\, c
	omme d’habitude.\nNous avons hâte de vous retrouver pour cette cinquième é
	dition. Toujours plus de\nson\, de châtaigniers et de good vibes\n\n\n\nht
	tps://www.helloasso.com/associations/free-med-association/evenements/wood-
	corner-6-rdh-houria-zion-free-med\n[https://www.helloasso.com/associations
	/free-med-association/evenements/wood-corner-6-rdh-houria-zion-free-med]
URL:https://dubagenda.top/event/wood-corner-6-rdh-houria-zion-free-meditati
	on-sound-system
GEO:47.5848288;-2.0444369
LOCATION:44460 Fregeac - Fégréac\, Châteaubriant-Ancenis\, Loire-Atlantique
	\, Pays de la Loire\, France métropolitaine\, 44460\, France
STATUS:CONFIRMED
CATEGORIES:2025,Nantes,Sound System
X-ALT-DESC;FMTTYPE=text/html:<p><strong>WOOD CORNER #6 - RDH - HOURIA ZION 
	- FREE MEDITATION SOUND SYSTEM</strong></p><p>PRIVATE SESSION 200 PLACE ⚠️<
	br><br>WOOD CORNER #6<br>La famille Wood Corner est de retour pour sa sixi
	ème édition, avec le fidèle Free Méditation Sound System qui fête ses 10 a
	ns cette années !!!!<br><br><br>Réservez votre samedi 6 septembre, on vous
	 prépare un Wood Corner encore plus magique que les précédents . Rendez vo
	us dans notre coin de forêt habituel pour 12 heures de son, de danse, et d
	e partage hors du temps,<br><br>::::::::::::::::::::: Roots Reggae Dub :::
	::::::::::::::::::::::<br>::::::::::::::::::::::::: Sono 4 Scoops ::::::::
	::::::::::::::::::<br>::::::::::::::::::::: 6 Septembre 2025 :::::::::::::
	::::::::::<br>::::::::::::::::::::::::::::::: 18h – 6h :::::::::::::::::::
	::::::::::::<br>:::::::::::::::::: 200 places maximum ::::::::::::::::::::
	:<br>•••••••••••••••••••••••• LINE UP ••••••••••••••••••••••••<br><br>A l’
	occasion du dixième anniversaire du Free Meditation Sound System, nous avo
	ns le plaisir de faire ça en famille avec RDH qui ont beaucoup aider et in
	spirer Free Meditation à leur début ainsi que Houria Zion , boxwoman de Fr
	ee Meditation from long time !!!<br><br>FREE MEDITATION FULL SOUND (Nantes
	)<br>Producteurs et sound system Nantais qui promeut la musique reggae roo
	ts to dub stepper UK depuis 2015. Leurs sélections varient du Roots reggae
	 traditionnel format vinyle, à des productions maison et dubplate en colla
	borations avec des chanteurs comme Ceikaba / Prince Allah/ Kokoa /M-Festa 
	et d'autre encore. Ce qui vous emmènent dans une ambiance consciente, posi
	tive, méditative et libératrice.<br>HOURIA ZION (BRETAGNE)<br>Houria ZION 
	d’origine Nantaise est une passionné de la culture Oldies &amp; Reggae dub
	 affinant ça sélection depuis plusieurs année afin de partager sa vibe mys
	tic et spirituel en session Sound System.<br>Son style unique met<br>l'acc
	ent sur les basses profondes et les rythmes hypnotiques.<br>Au fil des ann
	ées, Houria Zion a eu l'opportunité de partager sa musique (et des chroniq
	ues sur des artistes féminines) à la Radio Prun’ FM<br>Ainsi que dans de n
	ombreux lieux Nantais, tels que Le Férailleur (hangar à banane ), Les Nant
	ais (Guinguette de « la carrière ») , Le cabanon à Plocadeuc avec Free Med
	itation Sound System (BRETAGNE ) , la fête de la musique à Redon avec le c
	rew Rumble Hi Fi, ainsi que dans de nombreux bars et lieux privés .<br><br
	>RDH<br>Depuis 2011, RDH Hi-Fi propose une vision originale et transcendan
	te de l’univers sound-system.<br><br>Au delà de la mode et des traditions 
	et s’efforçant depuis le départ de participer à l’évolution de la culture 
	dub et Sound-system, ils proposent une aventure hors du commun, dans les p
	as des pionniers de la musique jamaïcaine. Un voyage qui permet la rencont
	re des différents styles qui ont marqué l’histoire du reggae roots et du d
	ub, jusqu’aux productions futuristes et expérimentales inspirées de la bas
	s music ou de la techno.<br><br>Au travers d’un mix fin et énergique, ils 
	proposent une rencontre de ces univers musicaux sur leur point commun : le
	 sound-system !<br><br>Warm up: FREE MEDITATION FAMILY ( JOAW/UGO )<br>SUR
	PRISE GUESTS : SEKOUZE &amp; KALIZ<br>•••••••••••••• INFOS PRATIQUES •••••
	•••••••<br>Entrée : 13€ d'adhésion à l’association Free Meditation (Pas de
	 sortie définitive au Wood Corner )<br>/!\ Attention pas de CB sur place, 
	prévoyez de l'espèce /!\<br>Parking : merci d’utiliser les deux grands par
	kings en terre de l’étang Aumée, et de laisser libre le petit parking de l
	a plage en gravier. Nous serons là pour vous guider à votre arrivée.<br>Po
	int GPS du parking : 47.603033,-2.059376<br>Parkings publics partagés avec
	 les riverains et les promeneurs, merci de respecter leur calme et leur pr
	opreté<br>Accès au site : depuis le parking, à pieds prendre le chemin de 
	terre qui s’enfonce dans la forêt, de l’autre côté de la route. L’entrée d
	u Wood Corner se situe 200 mètres plus haut<br>Les toutous sont autorisés 
	sur le site uniquement tenus en laisse et bien accompagnés de leur maître 
	ou maîtresse<br>Familles et enfants bienvenus ! Pensez à prendre des prote
	ctions auditives pour les plus jeunes skankers d'entre nous<br>•••••••••••
	•••••••••• SUR PLACE ••••••••••••••••••••<br>Buvette bio, locale, artisana
	le<br>Foodtruck local (Caradahl foodtruck ?)<br>Coin Chill<br>Toilettes sè
	ches<br>•••••••••••••••••• IMPORTANT •••••••••••••••••<br>Pour que le Wood
	 Corner perdure, merci de respecter la forêt, les espaces publics autour d
	e l’Etang Aumée, les voisins qui vont entendre leurs fenêtres vibrer toute
	 la nuit, les animaux et tous les humains que vous croiserez lors de cette
	 nuit magique<br>On compte sur vous, que des sourires et de la bienveillan
	ce, comme d’habitude.<br>Nous avons hâte de vous retrouver pour cette cinq
	uième édition. Toujours plus de son, de châtaigniers et de good vibes<br><
	br><br><br><a target="_blank" href="https://www.helloasso.com/associations
	/free-med-association/evenements/wood-corner-6-rdh-houria-zion-free-med">h
	ttps://www.helloasso.com/associations/free-med-association/evenements/wood
	-corner-6-rdh-houria-zion-free-med</a></p>
BEGIN:VALARM
ACTION:DISPLAY
DESCRIPTION:WOOD CORNER #6 - RDH - HOURIA ZION - FREE MEDITATION SOUND SYST
	EM
TRIGGER:-PT1H
END:VALARM
END:VEVENT
END:VCALENDAR
