BEGIN:VCALENDAR
VERSION:2.0
CALSCALE:GREGORIAN
PRODID:adamgibbons/ics
METHOD:PUBLISH
X-PUBLISHED-TTL:PT1H
BEGIN:VEVENT
UID:88@dubagenda.top
SUMMARY:Winter Dub Camp #2 // Get Up'
DTSTAMP:20260421T151323Z
DTSTART:20260206T200000Z
DTEND:20260207T030000Z
DESCRIPTION:Après une première édition complète\, le Winter Dub Camp revien
	t pour une 2ème\nédition les 6 et 7 février 2026 !\nCette Winter Dub Camp#
	2 n’aura d’hivernale que son nom\, car elle s’apprête bien\nà faire monter
	 la température de La Carrière de St Herblain !\nOn garde les bases : 2 jo
	urs\, 2 scènes\, 4 sound system\, 7h de son non-stop de\n21h à 4h\, 12 cre
	ws\, et une quantité infinie de good vibes\, de quoi faire danser\nadeptes
	 et initié·es.\n❄️ LINE UP ❄️\n- Vendredi 6 février -\n🔊Grande salle :\nO.B.
	F Sound System \; SR. Wilson \; Esaïa LIVE \; Mother Dubber \; 💥Petite sal
	le :\nAtaraxy Sound System & Aniya \; Nicozen \; Tosh Backyard\n- Samedi 7
	 février -\n🔊Grande salle :\nWoodblocks Sound System \; Gully Roots \; Jah
	 Tubby's ft Dixie Peach & MC Stamina\n💥Petite salle :\nInvalved Sound Syst
	em & Friends et Wassie One\nLa billetterie pour cette 2ème édition Winter 
	Dub Camp est ouverte alors pour\npouvoir enflammer le dancefloor\, il faud
	ra prendre son ticket avant qu’il n’y en\nait plus !\n🎫 www.dubcampfestiva
	l.com/agenda [http://www.dubcampfestival.com/agenda]\nINFORMATIONS PRATIQU
	ES\n________________________\n⏰ OUVERTURE DES PORTES : 21H00 – Sortie défi
	nitive\nDÉBUT DU SON : 21H00 / FIN DU SON : 4h\n🎫 BILLETTERIE EN PRÉVENTE\
	n1 JOUR : 20€ (tarif réduit sur justificatif) / 23€ (tarif normal)\n2 JOUR
	S : 36€ (tarif réduit sur justificatif) / 42€ (tarif normal)\nLes billets 
	sont nominatifs – Interdit aux -18 ans\n________________________\nComment 
	venir ?\n📍La Carrière\n2 bis\, rue du Souvenir Français\n44 800 — Saint-He
	rblain\n🚃 En Tram : Ligne 1 – arrêt Mendès France – Bellevue\nCorrespondan
	ce Bus 81 (arrêt Bodinières) – Bus 91 (arrêt Carrières)\n🚲 En vélo : Parki
	ng à disposition\n🚗 En covoiturage : Périphérique sortie 31\, porte de St 
	Herbllain\nParking Gratuit (⚠️ hauteur limitée à 2m)\n_____________________
	_________\nL’asso Get Up! s’efforce d’être un endroit safe et inclusif\, a
	ucune forme de\ndiscrimination ou de violence n’est tolérée\, tout comme l
	’irrespect des règles\nde consentement.\nNotre staff est là pour toi notam
	ment les gilets violets en maraude.
URL:https://dubagenda.top/event/winter-dub-camp-2-get-up
LOCATION:44800 Saint-Herblain // La Carrière - Pontpierre\, Saint-Herblain\
	, Nantes\, Loire-Atlantique\, Pays de la Loire\, France métropolitaine\, 4
	4800\, France
STATUS:CONFIRMED
CATEGORIES:Nantes,GetUp!,2026,Sound System
X-ALT-DESC;FMTTYPE=text/html:<p>Après une première édition complète, le Win
	ter Dub Camp revient pour une 2ème édition les 6 et 7 février 2026 !<br>Ce
	tte Winter Dub Camp#2 n’aura d’hivernale que son nom, car elle s’apprête b
	ien à faire monter la température de La Carrière de St Herblain !<br>On ga
	rde les bases : 2 jours, 2 scènes, 4 sound system, 7h de son non-stop de 2
	1h à 4h, 12 crews, et une quantité infinie de good vibes, de quoi faire da
	nser adeptes et initié·es.<br>❄️ LINE UP ❄️<br>- Vendredi 6 février -<br>🔊Gr
	ande salle :<br>O.B.F Sound System ; SR. Wilson ; Esaïa LIVE ; Mother Dubb
	er ; 💥Petite salle :<br>Ataraxy Sound System &amp; Aniya ; Nicozen ; Tosh 
	Backyard<br>- Samedi 7 février -<br>🔊Grande salle :<br>Woodblocks Sound Sy
	stem ; Gully Roots ; Jah Tubby's ft Dixie Peach &amp; MC Stamina<br>💥Petit
	e salle :<br>Invalved Sound System &amp; Friends et Wassie One<br>La bille
	tterie pour cette 2ème édition Winter Dub Camp est ouverte alors pour pouv
	oir enflammer le dancefloor, il faudra prendre son ticket avant qu’il n’y 
	en ait plus !<br>🎫 <a target="_blank" href="http://www.dubcampfestival.com
	/agenda">www.dubcampfestival.com/agenda</a><br>INFORMATIONS PRATIQUES<br>_
	_______________________<br>⏰ OUVERTURE DES PORTES : 21H00 – Sortie définit
	ive<br>DÉBUT DU SON : 21H00 / FIN DU SON : 4h<br>🎫 BILLETTERIE EN PRÉVENTE
	<br>1 JOUR : 20€ (tarif réduit sur justificatif) / 23€ (tarif normal)<br>2
	 JOURS : 36€ (tarif réduit sur justificatif) / 42€ (tarif normal)<br>Les b
	illets sont nominatifs – Interdit aux -18 ans<br>________________________<
	br>Comment venir ?<br>📍La Carrière<br>2 bis, rue du Souvenir Français<br>4
	4 800 — Saint-Herblain<br>🚃 En Tram : Ligne 1 – arrêt Mendès France – Bell
	evue<br>Correspondance Bus 81 (arrêt Bodinières) – Bus 91 (arrêt Carrières
	)<br>🚲 En vélo : Parking à disposition<br>🚗 En covoiturage : Périphérique 
	sortie 31, porte de St Herbllain<br>Parking Gratuit (⚠️ hauteur limitée à 2
	m)<br>______________________________<br>L’asso Get Up! s’efforce d’être un
	 endroit safe et inclusif, aucune forme de discrimination ou de violence n
	’est tolérée, tout comme l’irrespect des règles de consentement.<br>Notre 
	staff est là pour toi notamment les gilets violets en maraude.</p>
BEGIN:VALARM
ACTION:DISPLAY
DESCRIPTION:Winter Dub Camp #2 // Get Up'
TRIGGER:-PT1H
END:VALARM
END:VEVENT
END:VCALENDAR
