BEGIN:VCALENDAR
VERSION:2.0
CALSCALE:GREGORIAN
PRODID:adamgibbons/ics
METHOD:PUBLISH
X-PUBLISHED-TTL:PT1H
BEGIN:VEVENT
UID:114@dubagenda.top
SUMMARY:West In Dub
DTSTAMP:20260421T132700Z
DTSTART:20260116T183000Z
DTEND:20260116T223000Z
DESCRIPTION:📅VENDREDI 16 JANVIER\nTonton accueille West in Dub & MyDubz pou
	r une Soirée Dub\n🕑 19h30 - 23h30 du son du son et encore du son\n🍔 Possib
	ilité de manger sur place.\nBurgers\, frites\, planches apéritives\, sauci
	ssons.\nTout pour lancer 2026 comme il faut !!!
URL:https://dubagenda.top/event/west-in-dub
GEO:46.7333015;-1.5961897
LOCATION:85190 Aizenay // Tonton Aizenay - Hyper U\, D 948\, La Marronnière
	\, La Retière\, Aizenay\, La Roche-sur-Yon\, Vendée\, Pays de la Loire\, F
	rance métropolitaine\, 85190\, France
STATUS:CONFIRMED
CATEGORIES:2026,85,Sound System
X-ALT-DESC;FMTTYPE=text/html:<p>📅VENDREDI 16 JANVIER<br>Tonton accueille We
	st in Dub &amp; MyDubz pour une Soirée Dub<br>🕑 19h30 - 23h30 du son du so
	n et encore du son<br>🍔 Possibilité de manger sur place.<br>Burgers, frite
	s, planches apéritives, saucissons.<br>Tout pour lancer 2026 comme il faut
	 !!!</p>
BEGIN:VALARM
ACTION:DISPLAY
DESCRIPTION:West In Dub
TRIGGER:-PT1H
END:VALARM
END:VEVENT
END:VCALENDAR
