BEGIN:VCALENDAR
VERSION:2.0
CALSCALE:GREGORIAN
PRODID:adamgibbons/ics
METHOD:PUBLISH
X-PUBLISHED-TTL:PT1H
BEGIN:VEVENT
UID:37@dubagenda.top
SUMMARY:We Love Reggae Festival
DTSTAMP:20260421T151652Z
DTSTART:20250829T120000Z
DTEND:20250829T220000Z
DESCRIPTION:3eme édition du festival We Love Reggae\norganisé par l associa
	tion Herborigènes
URL:https://dubagenda.top/event/we-love-reggae-festival
GEO:47.609314;-1.5114876
LOCATION:44170 Treffieux // Fresnaie - Treffieux\, Châteaubriant-Ancenis\, 
	Loire-Atlantique\, Pays de la Loire\, France métropolitaine\, 44170\, Fran
	ce
STATUS:CONFIRMED
CATEGORIES:Festival,2025,Nantes
X-ALT-DESC;FMTTYPE=text/html:<p>3eme édition du festival We Love Reggae<br>
	organisé par l association Herborigènes</p>
BEGIN:VALARM
ACTION:DISPLAY
DESCRIPTION:We Love Reggae Festival
TRIGGER:-PT1H
END:VALARM
END:VEVENT
END:VCALENDAR
