BEGIN:VCALENDAR
VERSION:2.0
CALSCALE:GREGORIAN
PRODID:adamgibbons/ics
METHOD:PUBLISH
X-PUBLISHED-TTL:PT1H
BEGIN:VEVENT
UID:144@dubagenda.top
SUMMARY:Warizat X L'autre Cantine // Mango Loco & Friends
DTSTAMP:20260421T153951Z
DTSTART:20260328T130000Z
DTEND:20260329T010000Z
DESCRIPTION:➡️ Journée et soirée de soutien en faveur de L’Autre Cantine & d
	u Watizat Nantes\navec Mango Loco Sound System\, Para Pacem Sound System\,
	 Solast & Chapie du Soma\nCollectif\n🏠 On se retrouve à nouveau à La Génér
	ale samedi 28 Mars prochain de 14h à 2h\npour soutenir L’Autre Cantine et 
	le Watizat Nantes (https://watizat.org/\n[https://watizat.org/] )\, le tou
	t dans ambiance sonorisée 10h durant par les\ncollectifs nantais Mango Loc
	o Sound System\, Para Pacem et Solast & Charpie du\nSoma Collectif 🔈\nAu p
	rogramme :\n⛩️ De 14h à 19h (entrée libre) :\n➡️ Village associatif :\n- Sta
	nd de guides d’information pour les personnes exilées du Watizat Nantes\n-
	 Espace TAMO\n- Droit au Logement 44\n- COLERE\n- Wontanara\n➡️ Friperie so
	lidaire de L’Autre Cantine 👘\n➡️ Stand sérigraphie par Oh Waw Sérigraphie s
	ur affiche et vêtements 🌠\n➡️ Stand de vente de tirages par Garance (@hagar
	de) 📸\n➡️ Disquaire solidaire 📀\n➡️ Sound system : sélection rap\, cumbia\, 
	roots et dub music\n⏳ À partir de 19h (entrée prix libre) :\n➡️ On prend le
	s mêmes et on recommence ▶️ Sound system : sélection rap\, cumbia\,\nroots 
	et dub music\n➡️ Repas végétariens à prix libre par L’Autre Cantine 🍜\n🔚 2h
	 : fermeture des portes\n🥤Bar de La Générale ouvert en continu durant la j
	ournée-soirée.\n🟢 MANGO LOCO SOUND SYSTEM\nMango Loco\, c’est six amis pas
	sionnés de dub réunis autour d’un même projet\nmusical. Musiciens et sélec
	teurs\, ils tiennent à partager leurs dubplates\nensoleillés et mix maison
	. En 2020\, ils décident de construire leur propre sound\nsystem. Un proje
	t fait maison\, pensé pour le live et le partage. Aujourd’hui\,\nMango Loc
	o propose des sélections et des compositions originales qui voyagent du\ns
	ka jamaïcain au stepper digital\, entre influences roots et sonorités plus
	\nactuelles.\n🔵 PARA PACEM SOUND SYSTEM\n« Si vis pacem\, para pacem »\nCe
	tte version alternative de l'adage "Si vis pacem\, para bellum" ("Si tu ve
	ux la\npaix\, prépare la guerre") se veut pacifiste.\nLe Para Pacem Sound 
	System promouvoit ce message en utilisant la musique\ndiffusée sur soundsy
	stem comme médium. Le tout dans le cadre d’événements où\nl'ambiance\, dét
	endue et dansante\, est primordiale et où chacun.e doit se sentir\nrespect
	é.e et en sécurité.\nOn propose une sélection de morceaux centrée sur le r
	eggae avec quelques\nescapades dans les tropiques grâce à une touche afro/
	latin.\nSi vous voulez la paix\, venez la préparer et la fêter avec nous 🙂
	\n🟤 SOLAST DU SOMA COLLECTIF :\nSerious skanker zinzin\, toujours accompag
	née d'un sifflet\, Audrey se lance\naujourd'hui dans la sélection et l'opé
	ration après avoir découvert le dub et la\nculture sound system en 2013.\n
	Originalement amatrice de UK stepper to 3000\, elle découvre tardivement l
	a rage\ndu rap qui l'a réconcilié avec l'amour du roots. Bercée depuis sa 
	naissance par\nla fête et la musique dans le bar de ses parents\, son univ
	ers musical est\ndiversifié et compte bien te faire danser 💥\n🟣 CHAPIE DU 
	SOMA COLLECTIF :\nMusic addict depuis toujours la sélection de Chapie est 
	imprégnée par les\nmusiques du monde\, le hip-hop et le reggae-roots. Ferv
	ente adepte de la culture\nSound System et des sessions locales\, elle aff
	ectionne tout particulièrement le\ndub instrumental. Chapie se décide aujo
	urd'hui à vous partager son univers\nmusical ainsi que représenter les fem
	mes dans un milieu essentiellement\nmasculin.\n💰 CB et cash acceptés\n📪 La
	 Générale\, 31 rue Gabrielle le Pan de Ligny\, 44000 Nantes\n📍Bus C1 vers 
	Haluchère-Batignolles - arrêt Saint-Donatien
URL:https://dubagenda.top/event/warizat-x-lautre-cantine-mango-loco-and-fri
	ends
GEO:47.228707;-1.5385065
LOCATION:44000 Nantes // La Générale - Rue Gabrielle Le Pan de Ligny\, Case
	rne Mellinet\, Malakoff - Saint-Donatien\, Nantes\, Loire-Atlantique\, Pay
	s de la Loire\, France métropolitaine\, 44000\, France
STATUS:CONFIRMED
CATEGORIES:Nantes,2026,Sound System
X-ALT-DESC;FMTTYPE=text/html:<p>➡️ Journée et soirée de soutien en faveur de
	 L’Autre Cantine &amp; du Watizat Nantes avec Mango Loco Sound System, Par
	a Pacem Sound System, Solast &amp; Chapie du Soma Collectif<br>🏠 On se ret
	rouve à nouveau à La Générale samedi 28 Mars prochain de 14h à 2h pour sou
	tenir L’Autre Cantine et le Watizat Nantes (<a target="_blank" href="https
	://watizat.org/">https://watizat.org/</a> ), le tout dans ambiance sonoris
	ée 10h durant par les collectifs nantais Mango Loco Sound System, Para Pac
	em et Solast &amp; Charpie du Soma Collectif 🔈<br>Au programme :<br>⛩️ De 1
	4h à 19h (entrée libre) :<br>➡️ Village associatif :<br>- Stand de guides d
	’information pour les personnes exilées du Watizat Nantes<br>- Espace TAMO
	<br>- Droit au Logement 44<br>- COLERE<br>- Wontanara<br>➡️ Friperie solida
	ire de L’Autre Cantine 👘<br>➡️ Stand sérigraphie par Oh Waw Sérigraphie sur
	 affiche et vêtements 🌠<br>➡️ Stand de vente de tirages par Garance (@hagar
	de) 📸<br>➡️ Disquaire solidaire 📀<br>➡️ Sound system : sélection rap, cumbia
	, roots et dub music<br>⏳ À partir de 19h (entrée prix libre) :<br>➡️ On pr
	end les mêmes et on recommence ▶️ Sound system : sélection rap, cumbia, roo
	ts et dub music<br>➡️ Repas végétariens à prix libre par L’Autre Cantine 🍜<
	br>🔚 2h : fermeture des portes<br>🥤Bar de La Générale ouvert en continu du
	rant la journée-soirée.<br>🟢 MANGO LOCO SOUND SYSTEM<br>Mango Loco, c’est 
	six amis passionnés de dub réunis autour d’un même projet musical. Musicie
	ns et sélecteurs, ils tiennent à partager leurs dubplates ensoleillés et m
	ix maison. En 2020, ils décident de construire leur propre sound system. U
	n projet fait maison, pensé pour le live et le partage. Aujourd’hui, Mango
	 Loco propose des sélections et des compositions originales qui voyagent d
	u ska jamaïcain au stepper digital, entre influences roots et sonorités pl
	us actuelles.<br>🔵 PARA PACEM SOUND SYSTEM<br>« Si vis pacem, para pacem »
	<br>Cette version alternative de l'adage "Si vis pacem, para bellum" ("Si 
	tu veux la paix, prépare la guerre") se veut pacifiste.<br>Le Para Pacem S
	ound System promouvoit ce message en utilisant la musique diffusée sur sou
	ndsystem comme médium. Le tout dans le cadre d’événements où l'ambiance, d
	étendue et dansante, est primordiale et où chacun.e doit se sentir respect
	é.e et en sécurité.<br>On propose une sélection de morceaux centrée sur le
	 reggae avec quelques escapades dans les tropiques grâce à une touche afro
	/latin.<br>Si vous voulez la paix, venez la préparer et la fêter avec nous
	 🙂<br>🟤 SOLAST DU SOMA COLLECTIF :<br>Serious skanker zinzin, toujours acc
	ompagnée d'un sifflet, Audrey se lance aujourd'hui dans la sélection et l'
	opération après avoir découvert le dub et la culture sound system en 2013.
	<br>Originalement amatrice de UK stepper to 3000, elle découvre tardivemen
	t la rage du rap qui l'a réconcilié avec l'amour du roots. Bercée depuis s
	a naissance par la fête et la musique dans le bar de ses parents, son univ
	ers musical est diversifié et compte bien te faire danser 💥<br>🟣 CHAPIE DU
	 SOMA COLLECTIF :<br>Music addict depuis toujours la sélection de Chapie e
	st imprégnée par les musiques du monde, le hip-hop et le reggae-roots. Fer
	vente adepte de la culture Sound System et des sessions locales, elle affe
	ctionne tout particulièrement le dub instrumental. Chapie se décide aujour
	d'hui à vous partager son univers musical ainsi que représenter les femmes
	 dans un milieu essentiellement masculin.<br>💰 CB et cash acceptés<br>📪 La
	 Générale, 31 rue Gabrielle le Pan de Ligny, 44000 Nantes<br>📍Bus C1 vers 
	Haluchère-Batignolles - arrêt Saint-Donatien</p>
BEGIN:VALARM
ACTION:DISPLAY
DESCRIPTION:Warizat X L'autre Cantine // Mango Loco & Friends
TRIGGER:-PT1H
END:VALARM
END:VEVENT
END:VCALENDAR
