BEGIN:VCALENDAR
VERSION:2.0
CALSCALE:GREGORIAN
PRODID:adamgibbons/ics
METHOD:PUBLISH
X-PUBLISHED-TTL:PT1H
BEGIN:VEVENT
UID:90@dubagenda.top
SUMMARY:Wake The Town
DTSTAMP:20260421T151323Z
DTSTART:20251129T180000Z
DTEND:20251129T220000Z
DESCRIPTION:Wake the town and tell the people !Le sound system reggae qui f
	ait bouger les\ntêtes\, les jambes et les bouteilles sur les étagères !\nC
	'est un grand plaisir de recevoir à nouveau plus d'une dizaine après ces\n
	adorateurs de galettes !
URL:https://dubagenda.top/event/wake-the-town
GEO:47.1874403;-1.6873915
LOCATION:44620 La Montagne // Le Maka - Panama\, La Montagne\, Nantes\, Loi
	re-Atlantique\, Pays de la Loire\, France métropolitaine\, 44620\, France
STATUS:CONFIRMED
CATEGORIES:2025,Nantes,Sound System
X-ALT-DESC;FMTTYPE=text/html:<p>Wake the town and tell the people !Le sound
	 system reggae qui fait bouger les têtes, les jambes et les bouteilles sur
	 les étagères !<br>C'est un grand plaisir de recevoir à nouveau plus d'une
	 dizaine après ces adorateurs de galettes !</p>
BEGIN:VALARM
ACTION:DISPLAY
DESCRIPTION:Wake The Town
TRIGGER:-PT1H
END:VALARM
END:VEVENT
END:VCALENDAR
