BEGIN:VCALENDAR
VERSION:2.0
CALSCALE:GREGORIAN
PRODID:adamgibbons/ics
METHOD:PUBLISH
X-PUBLISHED-TTL:PT1H
BEGIN:VEVENT
UID:82@dubagenda.top
SUMMARY:🔊 Wadada Sessions #9 — Roots Tonality meets One A Dem // Solidarité
	 Jamaïque 🇯🇲
DTSTAMP:20260421T152025Z
DTSTART:20251108T180000Z
DTEND:20251109T010000Z
DESCRIPTION:Il y a quelques jours\, l’ouragan Melissa a frappé la Jamaïque 
	en Catégorie 5:\npluies diluviennes\, marée de tempête sur la côte sud\, p
	annes électriques\nmassives\, routes coupées et détruites\, hôpitaux ravag
	és par les vents ultra\nviolents (on parle de vents soutenus a près de 300
	km/h).\nLes régions agricoles de l’ouest sont durement impactées\, avec de
	s pertes\nmajeures\, des centaines et des centaines de maisons balayées\, 
	inondées et un\nrisque de pénuries.\nNotre session du 8 Novembre - WADADA 
	SESSIONS #9 – ROOTS TONALITY SOUND SYSTEM\nMeets ONE A DEM SOUND SYSTEM - 
	devient 100% solidaire: l'intégralité de la\nbilletterie sera reversée à l
	’effort de secours.\nOn remercie les frangins de One A Dem Sound System d'
	avoir accepté l'idée.\nC'est très important pour nous d'apporter notre aid
	e\, aussi minime puisse-elle\nparaitre\, à la population Jamaïcaine.\nSans
	 la Jamaïque\, tout ce que nous entreprenons musicalement parlant aujourd'
	hui\nn'existerait pas: Pas de Reggae\, pas de Dub\, pas de Sound System. C
	'est grâce\naux anciennes générations en Jamaïque si tout cela existe et p
	erdure encore à\nl'heure actuelle.\nOn espère vous voir nombreuses et nomb
	reux pour venir soutenir l'initiative.\nONENESS ☝️\n\n\n\n🔊 Wadada Sessions
	 #9 — Roots Tonality meets One A Dem\nC’est officiel : on se retrouve le s
	amedi 8 novembre 2025 à la Maison de\nl’Afrique et des Caraïbes (La Rochel
	le).\nPour cette 9e\, on invite les frangins de One A Dem Sound System qui
	 arrivent de\nBressuire avec un bout de sono.\nSound system meeting: 2×2 b
	asses\, sélection affûtée et vibes au cordeau.\n🎶 100% Reggae\, UK Dub\, p
	rods maison & heavyweight dubplates toute la nuit !\n🗓 Samedi 8 Novembre 2
	025\n🕖 De 19h à 02h\n📍 Maison de l’Afrique et des Caraïbes\, Rue de la Ber
	gerie – 17000 La Rochelle\n💰 Entrée prix libre (donnez ce que vous pouvez 
	🙌)\n🚍 Bus ILLICO Ligne 2 — arrêt « Cimetière Paysager »\n🚗 Accès direct vi
	a rocade N237 — parking gratuit sur place\n🌍 All Tribes Welcome — ouvert à
	 toutes et tous\n✋ Zéro discrimination\, zéro oppression\, zéro manque de 
	respect\n🤝 On vient pour partager la musique\, la culture et l’énergie pos
	itive\nViens en famille\, entre ami·e·s\, ou en solo…\nDes questions ? Écr
	ivez-nous en DM ou par mail : rootstonality@gmail.com\nSupport Your Local 
	Sound System Culture !
URL:https://dubagenda.top/event/wadada-sessions-9-roots-tonality-meets-one-
	a-dem-solidarite-jamaique
GEO:46.1755818;-1.1796174
LOCATION:17000 La  Rochelle // MAC - Le paradis Vert\, La Rochelle\, Charen
	te-Maritime\, Nouvelle-Aquitaine\, France métropolitaine\, 17000\, France
STATUS:CONFIRMED
CATEGORIES:2025,17,Sound System
X-ALT-DESC;FMTTYPE=text/html:<p>Il y a quelques jours, l’ouragan Melissa a 
	frappé la Jamaïque en Catégorie 5: pluies diluviennes, marée de tempête su
	r la côte sud, pannes électriques massives, routes coupées et détruites, h
	ôpitaux ravagés par les vents ultra violents (on parle de vents soutenus a
	 près de 300km/h). <br>Les régions agricoles de l’ouest sont durement impa
	ctées, avec des pertes majeures, des centaines et des centaines de maisons
	 balayées, inondées et un risque de pénuries.<br>Notre session du 8 Novemb
	re - WADADA SESSIONS #9 – ROOTS TONALITY SOUND SYSTEM Meets ONE A DEM SOUN
	D SYSTEM - devient 100% solidaire: l'intégralité de la billetterie sera re
	versée à l’effort de secours.<br>On remercie les frangins de One A Dem Sou
	nd System d'avoir accepté l'idée.<br>C'est très important pour nous d'appo
	rter notre aide, aussi minime puisse-elle paraitre, à la population Jamaïc
	aine. <br>Sans la Jamaïque, tout ce que nous entreprenons musicalement par
	lant aujourd'hui n'existerait pas: Pas de Reggae, pas de Dub, pas de Sound
	 System. C'est grâce aux anciennes générations en Jamaïque si tout cela ex
	iste et perdure encore à l'heure actuelle.<br>On espère vous voir nombreus
	es et nombreux pour venir soutenir l'initiative.<br>ONENESS ☝️</p><p></p><p
	>🔊 Wadada Sessions #9 — Roots Tonality meets One A Dem<br>C’est officiel :
	 on se retrouve le samedi 8 novembre 2025 à la Maison de l’Afrique et des 
	Caraïbes (La Rochelle).<br>Pour cette 9e, on invite les frangins de One A 
	Dem Sound System qui arrivent de Bressuire avec un bout de sono.<br>Sound 
	system meeting: 2×2 basses, sélection affûtée et vibes au cordeau.<br>🎶 10
	0% Reggae, UK Dub, prods maison &amp; heavyweight dubplates toute la nuit 
	!<br>🗓 Samedi 8 Novembre 2025<br>🕖 De 19h à 02h<br>📍 Maison de l’Afrique e
	t des Caraïbes, Rue de la Bergerie – 17000 La Rochelle<br>💰 Entrée prix li
	bre (donnez ce que vous pouvez 🙌)<br>🚍 Bus ILLICO Ligne 2 — arrêt « Cimeti
	ère Paysager »<br>🚗 Accès direct via rocade N237 — parking gratuit sur pla
	ce<br>🌍 All Tribes Welcome — ouvert à toutes et tous<br>✋ Zéro discriminat
	ion, zéro oppression, zéro manque de respect<br>🤝 On vient pour partager l
	a musique, la culture et l’énergie positive<br>Viens en famille, entre ami
	·e·s, ou en solo…<br>Des questions ? Écrivez-nous en DM ou par mail : root
	stonality@gmail.com<br>Support Your Local Sound System Culture !</p>
BEGIN:VALARM
ACTION:DISPLAY
DESCRIPTION:🔊 Wadada Sessions #9 — Roots Tonality meets One A Dem // Solida
	rité Jamaïque 🇯🇲
TRIGGER:-PT1H
END:VALARM
END:VEVENT
END:VCALENDAR
