BEGIN:VCALENDAR
VERSION:2.0
CALSCALE:GREGORIAN
PRODID:adamgibbons/ics
METHOD:PUBLISH
X-PUBLISHED-TTL:PT1H
BEGIN:VEVENT
UID:38@dubagenda.top
SUMMARY:🔥 Wadada Sessions #7 🔥 Roots Tonality Sound System Meets Siren Dub 
	Sound System !
DTSTAMP:20260421T152036Z
DTSTART:20250913T170000Z
DTEND:20250914T000000Z
DESCRIPTION:🔥 Wadada Sessions #7 🔥\nRoots Tonality Sound System Meets Siren
	 Dub Sound System !\nAprès des sessions qui ont marqué les esprits à La Ro
	chelle\, Roots Tonality\nrevient en force pour un nouveau Sound Meeting\, 
	cette fois avec Siren Dub Sound\nSystem\, tout droit débarqués de Vendée. 
	Deux crews\, deux stacks de deux scoops\net une seule règle: faire tremble
	r les murs. Rendez-vous à la Maison de\nl’Afrique et des Caraïbes pour une
	 nuit où le dub règne en maître ❤️🔥💚\n100% Reggae Music\, UK Dub\, Producti
	ons maison & Heavyweight Dubplates tout au\nlong de la nuit !\nSélection c
	onsciente\, basses profondes et good vibes !\n🗓 Samedi 13 septembre\n🕖 De 
	19h à 02h\n📍 Maison de l’Afrique et des Caraïbes\nRue de la Bergerie – 170
	00 La Rochelle\n🚍 Accès :\n- Bus ILLICO Ligne 2 – Arrêt « Cimetière Paysag
	er »\n- Accès direct via la Rocade N237\n🚗 Parking gratuit sur place !\n💰 
	Entrée : Prix libre sur donation (Chacun donne ce qu’il peut\, ce qu’il ve
	ut\n✊)\n🌍 All Tribes Welcome – Ouvert à toutes et à tous !\nPas de jugemen
	t\, pas de discrimination : on vient ensemble pour partager la\nmusique et
	 l’énergie positive.\n📧 Pour toute question\, contactez nous sur nos résea
	ux ou envoyez un email à :\nrootstonality@gmail.com\n⚠️ Rappel important :\
	nAucun comportement discriminant\, oppressant ou irrespectueux ne sera tol
	éré. On\nveut de la paix\, du respect et de l’unité ✨\nViens en famille\, 
	entre amis\, en solo…\nSupport Your Local Sound System Culture !
URL:https://dubagenda.top/event/wadada-sessions-7-roots-tonality-sound-syst
	em-meets-siren-dub-sound-system
GEO:46.1755818;-1.1796174
LOCATION:17000 La  Rochelle // MAC - Le paradis Vert\, La Rochelle\, Charen
	te-Maritime\, Nouvelle-Aquitaine\, France métropolitaine\, 17000\, France
STATUS:CONFIRMED
CATEGORIES:2025,17,Sound System
X-ALT-DESC;FMTTYPE=text/html:<p>🔥 Wadada Sessions #7 🔥<br>Roots Tonality So
	und System Meets Siren Dub Sound System !<br>Après des sessions qui ont ma
	rqué les esprits à La Rochelle, Roots Tonality revient en force pour un no
	uveau Sound Meeting, cette fois avec Siren Dub Sound System, tout droit dé
	barqués de Vendée. Deux crews, deux stacks de deux scoops et une seule règ
	le: faire trembler les murs. Rendez-vous à la Maison de l’Afrique et des C
	araïbes pour une nuit où le dub règne en maître ❤️🔥💚<br>100% Reggae Music, 
	UK Dub, Productions maison &amp; Heavyweight Dubplates tout au long de la 
	nuit !<br>Sélection consciente, basses profondes et good vibes !<br>🗓 Same
	di 13 septembre <br>🕖 De 19h à 02h<br>📍 Maison de l’Afrique et des Caraïbe
	s<br>Rue de la Bergerie – 17000 La Rochelle<br>🚍 Accès :<br>- Bus ILLICO L
	igne 2 – Arrêt « Cimetière Paysager »<br>- Accès direct via la Rocade N237
	<br>🚗 Parking gratuit sur place !<br>💰 Entrée : Prix libre sur donation (C
	hacun donne ce qu’il peut, ce qu’il veut ✊)<br>🌍 All Tribes Welcome – Ouve
	rt à toutes et à tous !<br>Pas de jugement, pas de discrimination : on vie
	nt ensemble pour partager la musique et l’énergie positive.<br>📧 Pour tout
	e question, contactez nous sur nos réseaux ou envoyez un email à : rootsto
	nality@gmail.com<br>⚠️ Rappel important :<br>Aucun comportement discriminan
	t, oppressant ou irrespectueux ne sera toléré. On veut de la paix, du resp
	ect et de l’unité ✨<br>Viens en famille, entre amis, en solo…<br>Support Y
	our Local Sound System Culture !</p>
BEGIN:VALARM
ACTION:DISPLAY
DESCRIPTION:🔥 Wadada Sessions #7 🔥 Roots Tonality Sound System Meets Siren 
	Dub Sound System !
TRIGGER:-PT1H
END:VALARM
END:VEVENT
END:VCALENDAR
