BEGIN:VCALENDAR
VERSION:2.0
CALSCALE:GREGORIAN
PRODID:adamgibbons/ics
METHOD:PUBLISH
X-PUBLISHED-TTL:PT1H
BEGIN:VEVENT
UID:101@dubagenda.top
SUMMARY:🔊 Wadada Sessions #10 — Roots Tonality and Friends
DTSTAMP:20260421T152540Z
DTSTART:20251213T180000Z
DTEND:20251214T010000Z
DESCRIPTION:🔊 Wadada Sessions #10 — Roots Tonality and Friends\nVenez fêter
	 avec nous la dernière Wadada de l'année ce samedi 13 Décembre 2025 à\nla 
	Maison de l’Afrique et des Caraïbes (La Rochelle).\n💃Pour cette 10éme édit
	ion venez sapés comme jamais!🕺\nOn invite les frangins Forge & Mighty Paul
	o pour une sélection allant des oldies\n60's aux roots rockers 70's.\n💥Thi
	s is a takeover! I & I come to change the mood💥\n🎂 C'est également l'occas
	ion de fêter l'anniversaire de la frangine Awa!\nSélection surprise 90's &
	 2000's pour l'occasion.\n🔊 Sound system 3 x basses - Powered by Roots Ton
	ality\n🎶 100% Reggae\, UK Dub\, prods maison & heavyweight dubplates pour 
	terminer la\nsoirée ! 🎶\n🗓 Samedi 13 Decembre 2025\n🕖 De 19h à 02h\n📍 Mais
	on de l’Afrique et des Caraïbes\, Rue de la Bergerie – 17000 La Rochelle\n
	💰 Entrée prix libre (donnez ce que vous pouvez 🙌)\n🚍 Bus ILLICO Ligne 2 — 
	arrêt « Cimetière Paysager »\n🚗 Accès direct via rocade N237 — parking gra
	tuit sur place\n🌍 All Tribes Welcome — ouvert à toutes et tous\n✋ Zéro dis
	crimination\, zéro oppression\, zéro manque de respect\n🤝 On vient pour pa
	rtager la musique\, la culture et l’énergie positive\nViens en famille\, e
	ntre ami·e·s\, ou en solo…\nDes questions ? Écrivez-nous en DM ou par mail
	 : rootstonality@gmail.com\nSupport Your Local Sound System Culture !
URL:https://dubagenda.top/event/wadada-sessions-10-roots-tonality-and-frien
	ds
GEO:46.1755818;-1.1796174
LOCATION:17000 La  Rochelle // MAC - Le paradis Vert\, La Rochelle\, Charen
	te-Maritime\, Nouvelle-Aquitaine\, France métropolitaine\, 17000\, France
STATUS:CONFIRMED
CATEGORIES:2025,17,Sound System
X-ALT-DESC;FMTTYPE=text/html:<p>🔊 Wadada Sessions #10 — Roots Tonality and 
	Friends<br>Venez fêter avec nous la dernière Wadada de l'année ce samedi 1
	3 Décembre 2025 à la Maison de l’Afrique et des Caraïbes (La Rochelle).<br
	>💃Pour cette 10éme édition venez sapés comme jamais!🕺<br>On invite les fra
	ngins Forge &amp; Mighty Paulo pour une sélection allant des oldies 60's a
	ux roots rockers 70's.<br>💥This is a takeover! I &amp; I come to change th
	e mood💥<br>🎂 C'est également l'occasion de fêter l'anniversaire de la fran
	gine Awa! Sélection surprise 90's &amp; 2000's pour l'occasion.<br>🔊 Sound
	 system 3 x basses - Powered by Roots Tonality<br>🎶 100% Reggae, UK Dub, p
	rods maison &amp; heavyweight dubplates pour terminer la soirée ! 🎶<br>🗓 S
	amedi 13 Decembre 2025<br>🕖 De 19h à 02h<br>📍 Maison de l’Afrique et des C
	araïbes, Rue de la Bergerie – 17000 La Rochelle<br>💰 Entrée prix libre (do
	nnez ce que vous pouvez 🙌)<br>🚍 Bus ILLICO Ligne 2 — arrêt « Cimetière Pay
	sager »<br>🚗 Accès direct via rocade N237 — parking gratuit sur place<br>🌍
	 All Tribes Welcome — ouvert à toutes et tous<br>✋ Zéro discrimination, zé
	ro oppression, zéro manque de respect<br>🤝 On vient pour partager la musiq
	ue, la culture et l’énergie positive<br>Viens en famille, entre ami·e·s, o
	u en solo…<br>Des questions ? Écrivez-nous en DM ou par mail : rootstonali
	ty@gmail.com<br>Support Your Local Sound System Culture !</p>
BEGIN:VALARM
ACTION:DISPLAY
DESCRIPTION:🔊 Wadada Sessions #10 — Roots Tonality and Friends
TRIGGER:-PT1H
END:VALARM
END:VEVENT
END:VCALENDAR
