BEGIN:VCALENDAR
VERSION:2.0
CALSCALE:GREGORIAN
PRODID:adamgibbons/ics
METHOD:PUBLISH
X-PUBLISHED-TTL:PT1H
BEGIN:VEVENT
UID:62@dubagenda.top
SUMMARY:The Dub Mission #4 HENRY SKENG (UK)meetsMACA CARNEVALI (ES)meetsDUB
	 LIVITY SOUND SYSTEM (FR)
DTSTAMP:20260421T152127Z
DTSTART:20251122T210000Z
DTEND:20251123T023000Z
DESCRIPTION:4ème édition de The Dub Mission. Une édition internationale ent
	re Espagne\,\nAngleterre et France.\nSamedi 22 Novembre de 22h à 3h30 au S
	téréolux :\nHENRY SKENG (UK)\nmeets\nMACA CARNEVALI (ES)\nmeets\nDUB LIVIT
	Y SOUND SYSTEM (FR)\nPrévente 12€\, sur place 15€\n⚠️ Capacité limitée à 35
	0 personnes !!!\nBilletterie : https://www.helloasso.com/.../even.../the-d
	ub-mission-part-4\n[https://www.helloasso.com/.../even.../the-dub-mission-
	part-4]\nBar et foodtruck sur place\nEsprit correct et bienveillant obliga
	toire
URL:https://dubagenda.top/event/the-dub-mission-4-henry-skeng-ukmeetsmaca-c
	arnevali-esmeetsdub-livity-sound-system-fr
GEO:47.2050937;-1.5635443
LOCATION:44200 Nantes // Stereolux - Boulevard Léon Bureau\, Île Sainte-Ann
	e\, Sainte-Anne - Zone portuaire\, Île de Nantes\, Nantes\, Loire-Atlantiq
	ue\, Pays de la Loire\, France métropolitaine\, 44276\, France
STATUS:CONFIRMED
CATEGORIES:2025,Nantes,Sound System
X-ALT-DESC;FMTTYPE=text/html:<p>4ème édition de The Dub Mission. Une éditio
	n internationale entre Espagne, Angleterre et France.<br>Samedi 22 Novembr
	e de 22h à 3h30 au Stéréolux :<br>HENRY SKENG (UK)<br>meets<br>MACA CARNEV
	ALI (ES)<br>meets<br>DUB LIVITY SOUND SYSTEM (FR)<br>Prévente 12€, sur pla
	ce 15€<br>⚠️ Capacité limitée à 350 personnes !!!<br>Billetterie : <a targe
	t="_blank" href="https://www.helloasso.com/.../even.../the-dub-mission-par
	t-4">https://www.helloasso.com/.../even.../the-dub-mission-part-4</a><br>B
	ar et foodtruck sur place<br>Esprit correct et bienveillant obligatoire </
	p>
BEGIN:VALARM
ACTION:DISPLAY
DESCRIPTION:The Dub Mission #4 HENRY SKENG (UK)meetsMACA CARNEVALI (ES)meet
	sDUB LIVITY SOUND SYSTEM (FR)
TRIGGER:-PT1H
END:VALARM
END:VEVENT
END:VCALENDAR
