BEGIN:VCALENDAR
VERSION:2.0
CALSCALE:GREGORIAN
PRODID:adamgibbons/ics
METHOD:PUBLISH
X-PUBLISHED-TTL:PT1H
BEGIN:VEVENT
UID:34@dubagenda.top
SUMMARY:The Dub Mission #3 par Rimshot
DTSTAMP:20260421T153643Z
DTSTART:20251003T180000Z
DTEND:20251004T030000Z
DESCRIPTION:3ème édition de THE DUB MISSION qui cette fois se déroulera sur
	 2 jours à la\nsalle Les Relandières au Cellier (20 minutes de NANTES).\n\
	n\nVendredi 3 octobre :\n🇯🇲MIDNIGHT RIDERS (JAM) 1ère date en Europe !!!\nI
	RIE ITES\nMELODUB\nPURRING SOUND\nPowered by DUB LIVITY SOUND SYTEM\n\n\nS
	amedi 4 octobre :\n🏴󠁧󠁢󠁥󠁮󠁧󠁿JAH ORTHODOX (UK) 1ère date en France !!!\nDUB LIVITY 
	SOUND SYSTEM\nZION HIGH\n\n\n100% Jah Music session\nBar et restauration s
	ur place\n\n\n1 soir 12€ en prévente\, 15€ sur place\n2 soirs 20€ en préve
	nte\, 25€ sur place
URL:https://dubagenda.top/event/the-dub-mission-3-par-rimshot
GEO:47.3202018;-1.3786193
LOCATION:44850 Le Cellier // Salle des Relandières - 1\, Allée de la Rosera
	ie\, ZAC des Relandières\, Lournier\, Le Cellier\, Châteaubriant-Ancenis\,
	 Loire-Atlantique\, Pays de la Loire\, France métropolitaine\, 44850\, Fra
	nce
STATUS:CONFIRMED
CATEGORIES:2025,Nantes,Sound System
X-ALT-DESC;FMTTYPE=text/html:<p>3ème édition de THE DUB MISSION qui cette f
	ois se déroulera sur 2 jours à la salle Les Relandières au Cellier (20 min
	utes de NANTES).</p><p><br>Vendredi 3 octobre :<br>🇯🇲MIDNIGHT RIDERS (JAM) 
	1ère date en Europe !!!<br>IRIE ITES<br>MELODUB<br>PURRING SOUND<br>Powere
	d by DUB LIVITY SOUND SYTEM</p><p><br>Samedi 4 octobre :<br>🏴󠁧󠁢󠁥󠁮󠁧󠁿JAH ORTHODOX 
	(UK) 1ère date en France !!!<br>DUB LIVITY SOUND SYSTEM<br>ZION HIGH</p><p
	><br>100% Jah Music session<br>Bar et restauration sur place</p><p><br>1 s
	oir 12€ en prévente, 15€ sur place<br>2 soirs 20€ en prévente, 25€ sur pla
	ce</p>
BEGIN:VALARM
ACTION:DISPLAY
DESCRIPTION:The Dub Mission #3 par Rimshot
TRIGGER:-PT1H
END:VALARM
END:VEVENT
END:VCALENDAR
