BEGIN:VCALENDAR
VERSION:2.0
CALSCALE:GREGORIAN
PRODID:adamgibbons/ics
METHOD:PUBLISH
X-PUBLISHED-TTL:PT1H
BEGIN:VEVENT
UID:40@dubagenda.top
SUMMARY:Sub Odyssey #3 - OBF Induhman Kurun Natural Illusion
DTSTAMP:20260421T135406Z
DTSTART:20251017T200000Z
DTEND:20251018T030000Z
DESCRIPTION:SUB ODYSSEY #3\n"Soundsystem Culture"\n\nAvis de tempête annonc
	ée\, l’asso Gwan Ah Dub met les petits plats dans les\ngrands pour cette é
	dition.\n\nProgrammation folle\, Horaire XXL\, Prix raisonnable\, la sessi
	on dub de ta rentrée\nsur la presqu'ile de Rhuys.\n\nLes lieux pour accuei
	llir des sessions sounds systems de qualité se font rares\,\nalors quand o
	n a rencontré l'équipe du MALVERN à Arzon\, on a direct pensé\nDubwise. LE
	 MALVERN\, les locaux y ont forcément passé une soirée depuis les 30\nans 
	d’ouverture\, une boîte légendaire prête à livrer une autre bataille que\n
	celle des vénètes !!\n\n≡≡≡≡≡≡≡≡≡≡≡≡≡≡ SALLE DUBWISE≡≡≡≡≡≡≡≡≡≡≡≡≡≡\n\n** O
	BF (Rico Dj set)\n** INDUHMAN (Bad Indian Records)\n** KURUN SOUND SYSTEM 
	(3 scoops)\n\n≡≡≡≡≡≡≡≡≡≡≡ SALLE NATURAL ILLUSION≡≡≡≡≡≡≡≡≡≡≡≡\n\n** KAPITAI
	NE 303\n** MAX\n**AXEL DREAD\n\n≡≡≡≡≡≡≡≡≡≡≡≡≡≡≡≡≡≡≡≡≡≡≡≡≡≡≡≡\n≡≡≡≡≡≡≡≡≡≡≡≡
	≡≡≡≡≡≡≡≡≡≡≡≡≡≡≡≡\n\nINFOS PRATIQUES\n≡≡≡≡≡≡≡≡≡≡≡≡\n\nLE MALVERN // ARZON\n
	\n22h - 06h\nSortie définitive à partir de 01h\nBar\nParking sur place (po
	ssible de rester après la session)\n\nMerci de ne pas prendre la route alc
	oolisé pour la sécurité de toustes\n\nPréventes sur lemalvern.com\n[https:
	//l.facebook.com/l.php?u=http%3A%2F%2Flemalvern.com%2F&h=AT1lqNLCCn9hNTww-
	e0JObls4-F3-QbFtGXPwk6JGIOaPKjXKw4kFLcuwRfdeUGM1dT250EZrBSdwC9Ie-pkRJ7LfhF
	Ur1SGHBxzDuOxApQaeoZJjHBBLufqwlSauwnwjDUIwLktEiHlct88mom0FSv7&__tn__=q&c[0
	]=AT2RYEnu-ujwMyXqTVfuG-0f9tzNpNHa6Qmzk4Hb_44yjQpV_JDGGEZMGSOyoVZA_aJq_Vtj
	LAQGODf3LyWN0pFff9pHqEMzxy93ie97rzN6eI0huELL7TlwOV1v7DY2K0Gn8YubCoEVmGUuRF
	7RxBlhjsn9AysxPyM]\nou Shotgun\n\nEntrée réservée au plus de 18 ans\n\nRes
	pect des gens et du lieu\n\nARTWORK @Bichon\n\n≡≡≡≡≡≡≡≡≡≡≡≡≡≡≡≡≡≡≡≡≡≡≡≡≡≡≡
	≡\n\nhttps://www.facebook.com/gwanahdub/ [https://www.facebook.com/gwanahd
	ub/]\nhttps://www.instagram.com/sub_odyssey/ [https://www.instagram.com/su
	b_odyssey/]
URL:https://dubagenda.top/event/sub-odyssey-3-obf-induhman-kurun-natural-il
	lusion
GEO:47.5385078;-2.8726233
LOCATION:56640 Arzon // Le Malvern - Rue Jules César\, Tumiac\, Arzon\, Van
	nes\, Morbihan\, Bretagne\, France métropolitaine\, 56640\, France
STATUS:CONFIRMED
CATEGORIES:2025,56,Sound System
X-ALT-DESC;FMTTYPE=text/html:<p>SUB ODYSSEY #3<br>"Soundsystem Culture"</p>
	<p>Avis de tempête annoncée, l’asso Gwan Ah Dub met les petits plats dans 
	les grands pour cette édition.</p><p>Programmation folle, Horaire XXL, Pri
	x raisonnable, la session dub de ta rentrée sur la presqu'ile de Rhuys.</p
	><p>Les lieux pour accueillir des sessions sounds systems de qualité se fo
	nt rares, alors quand on a rencontré l'équipe du MALVERN à Arzon, on a dir
	ect pensé Dubwise. LE MALVERN, les locaux y ont forcément passé une soirée
	 depuis les 30 ans d’ouverture, une boîte légendaire prête à livrer une au
	tre bataille que celle des vénètes !!</p><p>≡≡≡≡≡≡≡≡≡≡≡≡≡≡ SALLE DUBWISE≡≡
	≡≡≡≡≡≡≡≡≡≡≡≡</p><p>** OBF (Rico Dj set)<br>** INDUHMAN (Bad Indian Records
	)<br>** KURUN SOUND SYSTEM (3 scoops)</p><p>≡≡≡≡≡≡≡≡≡≡≡ SALLE NATURAL ILLU
	SION≡≡≡≡≡≡≡≡≡≡≡≡</p><p>** KAPITAINE 303<br>** MAX <br>**AXEL DREAD</p><p>≡
	≡≡≡≡≡≡≡≡≡≡≡≡≡≡≡≡≡≡≡≡≡≡≡≡≡≡≡<br>≡≡≡≡≡≡≡≡≡≡≡≡≡≡≡≡≡≡≡≡≡≡≡≡≡≡≡≡</p><p>INFOS PR
	ATIQUES<br>≡≡≡≡≡≡≡≡≡≡≡≡</p><p>LE MALVERN // ARZON</p><p>22h - 06h<br>Sorti
	e définitive à partir de 01h<br>Bar<br>Parking sur place (possible de rest
	er après la session)</p><p>Merci de ne pas prendre la route alcoolisé pour
	 la sécurité de toustes</p><p>Préventes sur <a target="_blank" href="https
	://l.facebook.com/l.php?u=http%3A%2F%2Flemalvern.com%2F&amp;h=AT1lqNLCCn9h
	NTww-e0JObls4-F3-QbFtGXPwk6JGIOaPKjXKw4kFLcuwRfdeUGM1dT250EZrBSdwC9Ie-pkRJ
	7LfhFUr1SGHBxzDuOxApQaeoZJjHBBLufqwlSauwnwjDUIwLktEiHlct88mom0FSv7&amp;__t
	n__=q&amp;c[0]=AT2RYEnu-ujwMyXqTVfuG-0f9tzNpNHa6Qmzk4Hb_44yjQpV_JDGGEZMGSO
	yoVZA_aJq_VtjLAQGODf3LyWN0pFff9pHqEMzxy93ie97rzN6eI0huELL7TlwOV1v7DY2K0Gn8
	YubCoEVmGUuRF7RxBlhjsn9AysxPyM">lemalvern.com</a> ou Shotgun</p><p>Entrée 
	réservée au plus de 18 ans</p><p>Respect des gens et du lieu</p><p>ARTWORK
	 @Bichon</p><p>≡≡≡≡≡≡≡≡≡≡≡≡≡≡≡≡≡≡≡≡≡≡≡≡≡≡≡≡<br><br><a target="_blank" href
	="https://www.facebook.com/gwanahdub/">https://www.facebook.com/gwanahdub/
	</a><br><a target="_blank" href="https://www.instagram.com/sub_odyssey/">h
	ttps://www.instagram.com/sub_odyssey/</a></p>
BEGIN:VALARM
ACTION:DISPLAY
DESCRIPTION:Sub Odyssey #3 - OBF Induhman Kurun Natural Illusion
TRIGGER:-PT1H
END:VALARM
END:VEVENT
END:VCALENDAR
