BEGIN:VCALENDAR
VERSION:2.0
CALSCALE:GREGORIAN
PRODID:adamgibbons/ics
METHOD:PUBLISH
X-PUBLISHED-TTL:PT1H
BEGIN:VEVENT
UID:46@dubagenda.top
SUMMARY:Style & Fashion #12 // Legal Shot Sound System
DTSTAMP:20260421T152821Z
DTSTART:20251004T160000Z
DTEND:20251004T230000Z
DESCRIPTION:Retour des soirées Style & Fashion aux Ateliers du vent\,\nPour
	 cet événement\, nous avons le plaisir d'inviter le producteur Rennais Dub
	\nDesign (Vincent Raude)\nA cette occasion\, il va remixer nos dubplates d
	ans un style bien à lui!! Hip\nHop\, Drum & Bass\, Bass music & more!!\nNo
	us avons hâte d'entendre ça sur la sono\, Inna different Style & Fashion!!
	!
URL:https://dubagenda.top/event/style-and-fashion-12-legal-shot-sound-syste
	m
GEO:48.1032557;-1.6969255
LOCATION:35000 Rennes // Les Ateliers Du Vent - Place Clara Zetkin\, Arsena
	l - Redon\, Cleunay - Arsenal-Redon\, Quartiers Ouest\, Rennes\, Ille-et-V
	ilaine\, Bretagne\, France métropolitaine\, 35238\, France
STATUS:CONFIRMED
CATEGORIES:2025,35,Sound System
X-ALT-DESC;FMTTYPE=text/html:<p>Retour des soirées Style &amp; Fashion aux 
	Ateliers du vent,<br>Pour cet événement, nous avons le plaisir d'inviter l
	e producteur Rennais Dub Design (Vincent Raude)<br>A cette occasion, il va
	 remixer nos dubplates dans un style bien à lui!! Hip Hop, Drum &amp; Bass
	, Bass music &amp; more!!<br>Nous avons hâte d'entendre ça sur la sono, In
	na different Style &amp; Fashion!!!</p>
BEGIN:VALARM
ACTION:DISPLAY
DESCRIPTION:Style & Fashion #12 // Legal Shot Sound System
TRIGGER:-PT1H
END:VALARM
END:VEVENT
END:VCALENDAR
