BEGIN:VCALENDAR
VERSION:2.0
CALSCALE:GREGORIAN
PRODID:adamgibbons/ics
METHOD:PUBLISH
X-PUBLISHED-TTL:PT1H
BEGIN:VEVENT
UID:164@dubagenda.top
SUMMARY:Step In Dub #6 // Siren Dub meets Youth Collective 
DTSTAMP:20260421T115525Z
DTSTART:20260501T170000Z
DTEND:20260501T233000Z
DESCRIPTION:✨STEP IN DUB #6\nHâte de vous retrouver pour cette session qui 
	s’annonce déjà big !!\nOn investit de nouveau le spot emblématique @legran
	dducapremont avec des invités\ntrès spéciaux : les grands frères du @youth
	collective.sound 🙌\nPrésents dès l’inauguration de notre sound\, ils nous 
	soutiennent depuis l’heure\nzéro. C’est un immense honneur de les retrouve
	r derrière les box\, un an et demi\nplus tard ✨\nOn vous prépare quelques 
	surprises de taille pour marquer le coup...🤫\n🕦 19H - 1H30\n🗓️ Vendredi 1er
	 mai 2026\n📍 La Thebaultière\, 85220 Apremont\n☑️ Prix libre\, prix conscie
	nt (espèces et CB)\nSAFE PLACE pour tout le monde ! On n’acceptera aucuns 
	comportements\ndéplacés/discriminatoires ni haine à l’égard des autres. On
	 se réserve le droit\nd’exclure définitivement de nos soirées quiconque ne
	 respecte pas ces valeurs.\nMerci de respecter le lieu\, on compte sur vot
	re bienveillance et on espère vous\nvoir nombreuses et nombreux !!\nOne lo
	ve🫶🏼\n@youthcollective.sound\n@legrandducapremont\n@siren.dub.soundsystem
URL:https://dubagenda.top/event/step-in-dub-6
GEO:46.7430851;-1.7579259
LOCATION:85220 Apremont // Le Grand Duc - La Thébaultière\, Apremont\, La R
	oche-sur-Yon\, Vendée\, Pays de la Loire\, France métropolitaine\, 85220\,
	 France
STATUS:CONFIRMED
CATEGORIES:2026,85,Sound System
X-ALT-DESC;FMTTYPE=text/html:<p>✨STEP IN DUB #6<br>Hâte de vous retrouver p
	our cette session qui s’annonce déjà big !!<br>On investit de nouveau le s
	pot emblématique @legrandducapremont avec des invités très spéciaux : les 
	grands frères du @youthcollective.sound 🙌<br>Présents dès l’inauguration d
	e notre sound, ils nous soutiennent depuis l’heure zéro. C’est un immense 
	honneur de les retrouver derrière les box, un an et demi plus tard ✨<br>On
	 vous prépare quelques surprises de taille pour marquer le coup...🤫<br>🕦 1
	9H - 1H30<br>🗓️ Vendredi 1er mai 2026<br>📍 La Thebaultière, 85220 Apremont<
	br>☑️ Prix libre, prix conscient (espèces et CB)<br>SAFE PLACE pour tout le
	 monde ! On n’acceptera aucuns comportements déplacés/discriminatoires ni 
	haine à l’égard des autres. On se réserve le droit d’exclure définitivemen
	t de nos soirées quiconque ne respecte pas ces valeurs.<br>Merci de respec
	ter le lieu, on compte sur votre bienveillance et on espère vous voir nomb
	reuses et nombreux !!<br>One love🫶🏼<br>@youthcollective.sound <br>@legrandd
	ucapremont <br>@siren.dub.soundsystem</p>
BEGIN:VALARM
ACTION:DISPLAY
DESCRIPTION:Step In Dub #6 // Siren Dub meets Youth Collective 
TRIGGER:-PT1H
END:VALARM
END:VEVENT
END:VCALENDAR
