BEGIN:VCALENDAR
VERSION:2.0
CALSCALE:GREGORIAN
PRODID:adamgibbons/ics
METHOD:PUBLISH
X-PUBLISHED-TTL:PT1H
BEGIN:VEVENT
UID:66@dubagenda.top
SUMMARY:Step In Dub #5 // Siren Dub Sound System meet Erev HiFi
DTSTAMP:20260421T134428Z
DTSTART:20251107T180000Z
DTEND:20251108T003000Z
DESCRIPTION:💥 STEP IN DUB #5 💥\nNouvelle session\, nouvel invité et pas des
	 moindres : le crew @erevhifi\npartagera la danse avec nous ce vendredi 7 
	novembre !!\nOn a hâte de se retrouver dans ce spot emblématique @legrandd
	ucapremont qui sera\nsûrement la dernière soirée de l’année 2025 !\n🕦19H -
	 1H30\n🗓️Vendredi 7 novembre\n📍La Thebaultière\, 85220 Apremont\n✅Prix libr
	e\, prix conscient (espèces et CB)\nMerci au talentueux @ewenergik pour l’
	affiche !\nOne love🫶🏼\n@erevhifi\n@legrandducapremont\n@siren.dub.soundsyst
	em
URL:https://dubagenda.top/event/step-in-dub-5-siren-dub-sound-system-meet-e
	rev-hifi
GEO:46.7430851;-1.7579259
LOCATION:85220 Apremont // Le Grand Duc - La Thébaultière\, Apremont\, La R
	oche-sur-Yon\, Vendée\, Pays de la Loire\, France métropolitaine\, 85220\,
	 France
STATUS:CONFIRMED
CATEGORIES:2025,85,Sound System
X-ALT-DESC;FMTTYPE=text/html:<p>💥 STEP IN DUB #5 💥<br>Nouvelle session, nou
	vel invité et pas des moindres : le crew @erevhifi partagera la danse avec
	 nous ce vendredi 7 novembre !!<br>On a hâte de se retrouver dans ce spot 
	emblématique @legrandducapremont qui sera sûrement la dernière soirée de l
	’année 2025 !<br>🕦19H - 1H30<br>🗓️Vendredi 7 novembre <br>📍La Thebaultière,
	 85220 Apremont<br>✅Prix libre, prix conscient (espèces et CB)<br>Merci au
	 talentueux @ewenergik pour l’affiche !<br>One love🫶🏼<br>@erevhifi <br>@leg
	randducapremont <br>@siren.dub.soundsystem</p>
BEGIN:VALARM
ACTION:DISPLAY
DESCRIPTION:Step In Dub #5 // Siren Dub Sound System meet Erev HiFi
TRIGGER:-PT1H
END:VALARM
END:VEVENT
END:VCALENDAR
