BEGIN:VCALENDAR
VERSION:2.0
CALSCALE:GREGORIAN
PRODID:adamgibbons/ics
METHOD:PUBLISH
X-PUBLISHED-TTL:PT1H
BEGIN:VEVENT
UID:163@dubagenda.top
SUMMARY:St Stepper sur Loire #2 // Connect HiFi meets Molecular Dub
DTSTAMP:20260421T134213Z
DTSTART:20260411T170000Z
DTEND:20260412T010000Z
DESCRIPTION:Le Connect HI-FI et le Molecular Dub HI-FI se retrouvent le 11 
	avril 2026 pour\nfaire trembler Saint Georges sur Loire à nouveau !\nDes s
	élections affutées vous attendent !\n19h - 3h\nSalle Beausite\, rue des pe
	upliers à Saint Georges sur Loire (49170)\nPréventes 6€ et 8€ sur place ->
	\nhttps://www.helloasso.com/.../st-stepper-sur-loire-2-dub\n[https://www.h
	elloasso.com/.../st-stepper-sur-loire-2-dub]...\nRestauration et bar (bièr
	e locale - la florencière) sur place
URL:https://dubagenda.top/event/st-stepper-sur-loire-2-connect-hifi-meets-m
	olecular-dub
GEO:47.405235;-0.7619804
LOCATION:49170 St Georges sur Loire // salle Beausite - Rue des Peupliers\,
	 Saint-Georges-sur-Loire\, Angers\, Maine-et-Loire\, Pays de la Loire\, Fr
	ance métropolitaine\, 49170\, France
STATUS:CONFIRMED
CATEGORIES:49,2026,Sound System
X-ALT-DESC;FMTTYPE=text/html:<p>Le Connect HI-FI et le Molecular Dub HI-FI 
	se retrouvent le 11 avril 2026 pour faire trembler Saint Georges sur Loire
	 à nouveau !<br>Des sélections affutées vous attendent !<br>19h - 3h<br>Sa
	lle Beausite, rue des peupliers à Saint Georges sur Loire (49170)<br>Préve
	ntes 6€ et 8€ sur place -&gt; <a href="https://www.helloasso.com/.../st-st
	epper-sur-loire-2-dub" target="_blank">https://www.helloasso.com/.../st-st
	epper-sur-loire-2-dub</a>...<br>Restauration et bar (bière locale - la flo
	rencière) sur place</p>
BEGIN:VALARM
ACTION:DISPLAY
DESCRIPTION:St Stepper sur Loire #2 // Connect HiFi meets Molecular Dub
TRIGGER:-PT1H
END:VALARM
END:VEVENT
END:VCALENDAR
