BEGIN:VCALENDAR
VERSION:2.0
CALSCALE:GREGORIAN
PRODID:adamgibbons/ics
METHOD:PUBLISH
X-PUBLISHED-TTL:PT1H
BEGIN:VEVENT
UID:14@dubagenda.top
SUMMARY:Sound Meeting
DTSTAMP:20260421T151353Z
DTSTART:20250809T120000Z
DTEND:20250809T233000Z
DESCRIPTION:💥SOUND MEETING💥\n\nHâte de vous retrouver pour partager cette b
	elle danse qui s’annonce déjà biggg\n!!\n\nRdv ce Samedi 9 Août 2025\, dan
	s un spot magnifique : @legrandducapremont !!\n\n💶 Prix libre\, prix consc
	ient (espèces et CB)\n\n📍La Thebaultière\, 85220 Apremont\n\n🗓️ Samedi 9 Ao
	ût 2025\n\n🕦14h00-19h00 : @propaganda.sound.system viendra sonoriser la te
	rrasse\nextérieure !\n\n🕦19h00-01h30 : @greenoaksoundsystem et @siren.dub.
	soundsystem prendra le relais\npour assurer l’intérieur en sound meeting !
	\n\nNous aurons la chance de partager la session avec @legacyfoundationsou
	nd\,\n@chakachakasoundsystem et @sankamuffin.dub !!\n\nOne love🫶
URL:https://dubagenda.top/event/sound-meeting
GEO:46.7424194;-1.7576236
LOCATION:85220 Apremont - Le Grand Duc\, La Thébaultière\, Apremont\, La Ro
	che-sur-Yon\, Vendée\, Pays de la Loire\, France métropolitaine\, 85220\, 
	France
STATUS:CONFIRMED
CATEGORIES:2025,85,Sound System
X-ALT-DESC;FMTTYPE=text/html:<p>💥SOUND MEETING💥</p><p>Hâte de vous retrouve
	r pour partager cette belle danse qui s’annonce déjà biggg !!</p><p>Rdv ce
	 Samedi 9 Août 2025, dans un spot magnifique :  @legrandducapremont !!</p>
	<p>💶 Prix libre, prix conscient (espèces et CB)</p><p>📍La Thebaultière, 85
	220 Apremont</p><p>🗓️ Samedi 9 Août 2025</p><p>🕦14h00-19h00 : @propaganda.s
	ound.system viendra sonoriser la terrasse extérieure !</p><p>🕦19h00-01h30 
	: @greenoaksoundsystem et @siren.dub.soundsystem prendra le relais pour as
	surer l’intérieur en sound meeting !</p><p>Nous aurons la chance de partag
	er la session avec @legacy<em>foundation</em>sound, @chaka<em>chaka</em>so
	und<em>system et @sanka</em>muffin.dub !!</p><p>One love🫶</p>
BEGIN:VALARM
ACTION:DISPLAY
DESCRIPTION:Sound Meeting
TRIGGER:-PT1H
END:VALARM
END:VEVENT
END:VCALENDAR
