BEGIN:VCALENDAR
VERSION:2.0
CALSCALE:GREGORIAN
PRODID:adamgibbons/ics
METHOD:PUBLISH
X-PUBLISHED-TTL:PT1H
BEGIN:VEVENT
UID:44@dubagenda.top
SUMMARY:Sonomade II - Shelta invite Footprint et Guru Pope - release party 
	Dubamorphose
DTSTAMP:20260421T152036Z
DTSTART:20251018T140000Z
DTEND:20251019T000000Z
DESCRIPTION:SONOMADE II\n🎶 Le Shelta est de retour avec un énorme événement
	 featuring @footprint_system\npour sa Release Party de son album Dubamorph
	ose !\nSuivi également de @guru_pope_ et de nombreux instrumentistes.\n📍 C
	ette soirée aura lieu au dancing de @quaideschaps à Nantes pour la deuxièm
	e\nédition de la Sonomade.\n📅 Cet événement à lieu le 18 octobre de 16 h à
	 2 h... Avec un Happy hour de 16\nh à 18 h et une sortie définitive à part
	ir de 21 h au 378 route de Sainte Luce.\n🍝 Il y aura de la restauration vé
	gé sur place !\n🔗 Pour plus d'informations : rendez-vous sur l'événement F
	acebook.\nEt pour prendre vos places : c'est sur notre HelloAsso\, accessi
	ble depuis notre\nbio !\n🙏 Un grand merci à @kafar_naum pour cette magnifi
	que affiche !\nAu plaisir de vous voir nombreux.ses pour le retour de notr
	e soundsystem\, qui\nlui-même aura subi quelques changements depuis la der
	nière fois… !
URL:https://dubagenda.top/event/sonomade-ii-shelta-invite-footprint-et-guru
	-pope-release-party-dubamorphose
GEO:47.2465568;-1.497463
LOCATION:44300 Nantes // Quai des Chaps - Route de Sainte-Luce\, Le Bois Br
	iand\, Doulon - Bottière\, Nantes\, Loire-Atlantique\, Pays de la Loire\, 
	France métropolitaine\, 44305\, France
STATUS:CONFIRMED
CATEGORIES:2025,Nantes,Sound System
X-ALT-DESC;FMTTYPE=text/html:<p>SONOMADE II <br>🎶 Le Shelta est de retour a
	vec un énorme événement featuring @footprint_system pour sa Release Party 
	de son album Dubamorphose ! <br>Suivi également de @guru_pope_ et de nombr
	eux instrumentistes. <br>📍 Cette soirée aura lieu au dancing de @quaidesch
	aps à Nantes pour la deuxième édition de la Sonomade. <br>📅 Cet événement 
	à lieu le 18 octobre de 16 h à 2 h... Avec un Happy hour de 16 h à 18 h et
	 une sortie définitive à partir de 21 h au 378 route de Sainte Luce. <br>🍝
	 Il y aura de la restauration végé sur place !<br>🔗 Pour plus d'informatio
	ns : rendez-vous sur l'événement Facebook. <br>Et pour prendre vos places 
	: c'est sur notre HelloAsso, accessible depuis notre bio !<br>🙏 Un grand m
	erci à @kafar_naum pour cette magnifique affiche ! <br>Au plaisir de vous 
	voir nombreux.ses pour le retour de notre soundsystem, qui lui-même aura s
	ubi quelques changements depuis la dernière fois… !</p>
BEGIN:VALARM
ACTION:DISPLAY
DESCRIPTION:Sonomade II - Shelta invite Footprint et Guru Pope - release pa
	rty Dubamorphose
TRIGGER:-PT1H
END:VALARM
END:VEVENT
END:VCALENDAR
