BEGIN:VCALENDAR
VERSION:2.0
CALSCALE:GREGORIAN
PRODID:adamgibbons/ics
METHOD:PUBLISH
X-PUBLISHED-TTL:PT1H
BEGIN:VEVENT
UID:198@dubagenda.top
SUMMARY:Soma Collectif
DTSTAMP:20260423T163842Z
DTSTART:20260510T140000Z
DTEND:20260510T220000Z
DESCRIPTION:Next one pour SOMA collectif : @dosesnantes !\n\n🪩 On se retrou
	ve le dimanche 10 mai de 16h à minuit avec M.O.E\, Shivarasta\,\nQueen Tob
	bie\, ITO et Inaka 💃🏼 • @ma.i.lys • @shivarasta1 • @tobbie_beans •\n@kenza.
	jad • @prxnes\n\nPas de sound system pour celle ci mais ça sera sonorisé p
	ar du Funktion-One dans\nle bar\, pas d’inquiétude\, ça fonctionne super b
	ien !\n\n💴 Entrée prix libre 💴\n\nMerci à @dosesnantes pour l’invitation d
	ans ce super lieu\, un des rares bars à\nNantes où on a de la place pour d
	anser et casser le dancefloor 🕺🏼\n\nOn s’y retrouve également le 4 juin\, p
	lus d’infos à venir 🤫\n\n📍21 Quai des Antilles\, 44200 Nantes\n\n⚠️ TOUT CO
	MPORTEMENTS RACISTES\, SEXISTES\, TRANSPHOBES\, VALIDISTES ETC NE SONT\nPA
	S DU TOUT LE BIENVENUE\, ON VOUS AURA PRÉVENU\n\n⚠️ flyer : @ikhhor\n\n#som
	acollectif #dubsession #womans #nantes
URL:https://dubagenda.top/event/soma-collectif
GEO:47.2022774;-1.5726563
LOCATION:44200 Nantes // Doses - Quai des Antilles\, Sainte-Anne - Zone por
	tuaire\, Île de Nantes\, Nantes\, Loire-Atlantique\, Pays de la Loire\, Fr
	ance métropolitaine\, 44003\, France
STATUS:CONFIRMED
CATEGORIES:Nantes,2026
X-ALT-DESC;FMTTYPE=text/html:<p>Next one pour SOMA collectif : @dosesnantes
	 ! </p><p>🪩 On se retrouve le dimanche 10 mai de 16h à minuit avec M.O.E, 
	Shivarasta, Queen Tobbie, ITO et Inaka 💃🏼 • @ma.i.lys • @shivarasta1 • @tob
	bie_beans • @kenza.jad • @prxnes </p><p>Pas de sound system pour celle ci 
	mais ça sera sonorisé par du Funktion-One dans le bar, pas d’inquiétude, ç
	a fonctionne super bien ! </p><p>💴 Entrée prix libre 💴 </p><p>Merci à @dos
	esnantes pour l’invitation dans ce super lieu, un des rares bars à Nantes 
	où on a de la place pour danser et casser le dancefloor 🕺🏼 </p><p>On s’y re
	trouve également le 4 juin, plus d’infos à venir 🤫 </p><p>📍21 Quai des Ant
	illes, 44200 Nantes </p><p>⚠️ TOUT COMPORTEMENTS RACISTES, SEXISTES, TRANSP
	HOBES, VALIDISTES ETC NE SONT PAS DU TOUT LE BIENVENUE, ON VOUS AURA PRÉVE
	NU </p><p>⚠️ flyer : @ikhhor</p><p> #somacollectif #dubsession #womans #nan
	tes </p>
BEGIN:VALARM
ACTION:DISPLAY
DESCRIPTION:Soma Collectif
TRIGGER:-PT1H
END:VALARM
END:VEVENT
END:VCALENDAR
