BEGIN:VCALENDAR
VERSION:2.0
CALSCALE:GREGORIAN
PRODID:adamgibbons/ics
METHOD:PUBLISH
X-PUBLISHED-TTL:PT1H
BEGIN:VEVENT
UID:39@dubagenda.top
SUMMARY:💫 Soirée VAGUE A DUB #4 💫
DTSTAMP:20260421T132822Z
DTSTART:20251025T180000Z
DTEND:20251026T000000Z
DESCRIPTION:💫 Soirée VAGUE A DUB #4 💫\nL'association Vague A Bond organise 
	sa quatrième soirée sound system reggae-dub\nle 25 Octobre 2025 au complex
	e du Loch à Damgan !\nAu programme :\n👉Musically Mad :\nhttps://www.facebo
	ok.com/share/1Bb71fTMGM/?mibextid=wwXIfr\n[https://www.facebook.com/share/
	1Bb71fTMGM/?mibextid=wwXIfr]\n👉Steppaddict :\nhttps://www.facebook.com/Ste
	ppaddictSoundSystem\n[https://www.facebook.com/SteppaddictSoundSystem]\n👉 
	Melodub Sound System sonorisera la soirée 🔥\nhttps://www.facebook.com/prof
	ile.php?id=100063494530705\n[https://www.facebook.com/profile.php?id=10006
	3494530705]\n--\nQuelques infos pratiques :\n📍 𝗖𝗼𝗺𝗽𝗹𝗲𝘅𝗲 𝗱𝘂 𝗟𝗼𝗰𝗵\, 𝗗𝗮𝗺𝗴𝗮𝗻 (
	56750)\n📅 25 Octobre 2025 / 20h à 2h\n🎫 Billets d'entrée sur place (12€) o
	u en prévente (10€) sur\nhttps://www.helloasso.com/.../evenements/vague-a-
	dub-4\n[https://www.helloasso.com/.../evenements/vague-a-dub-4]\nPrix libr
	e pour les moins de 10 ans\n🍻 Buvette sur place avec bières locales et sof
	ts\n🍛 Restauration sur place\n💳 Moyens de paiement acceptés : CB\, espèces
	\, chèques\n👂 Bouchons d'oreilles et casques pour enfant à disposition\n⏰ 
	Toute sortie est définitive après 22h\n🚗 Parking gratuit devant la salle (
	merci de privilégier le covoiturage 😉)\n🐕 Les animaux ne sont pas acceptés
	 dans l'enceinte de l'événement\n🍾 Objets dangereux et alcool perso sont i
	nterdits\n𝗠𝗲𝗿𝗰𝗶 𝗱'𝗲̂𝘁𝗿𝗲 𝗯𝗶𝗲𝗻𝘃𝗲𝗶𝗹𝗹𝗮𝗻𝘁.𝗲 𝗲𝘁\n𝗿𝗲𝘀𝗽𝗲𝗰𝘁𝗲𝘂𝘅.𝘀𝗲 𝗲𝗻𝘃𝗲𝗿𝘀 𝗹𝗲𝘀 𝗯𝗲́𝗻𝗲́
	𝘃𝗼𝗹𝗲𝘀 𝗲𝘁\n𝘁𝗼𝘂𝘁𝗲 𝗮𝘂𝘁𝗿𝗲 𝗽𝗲𝗿𝘀𝗼𝗻𝗻𝗲 𝗽𝗿𝗲́𝘀𝗲𝗻𝘁𝗲 𝗮̀ 𝗹𝗮 𝘀𝗼𝗶𝗿𝗲́𝗲\n! 💛\n--\n🔗 𝘄𝘄𝘄.𝘃𝗮𝗴
	𝘂𝗲𝗮𝗯𝗼𝗻𝗱.𝗳𝗿
URL:https://dubagenda.top/event/soiree-vague-a-dub-4
GEO:47.516741;-2.5650044
LOCATION:56750 Damgan // Loch - Boulevard de l'Atalante\, Kervoyal\, Damgan
	\, Vannes\, Morbihan\, Bretagne\, France métropolitaine\, 56750\, France
STATUS:CONFIRMED
CATEGORIES:2025,56,Sound System
X-ALT-DESC;FMTTYPE=text/html:<p>💫 Soirée VAGUE A DUB #4 💫<br>L'association 
	Vague A Bond organise sa quatrième soirée sound system reggae-dub le 25 Oc
	tobre 2025 au complexe du Loch à Damgan !<br>Au programme :<br>👉Musically 
	Mad :<br><a href="https://www.facebook.com/share/1Bb71fTMGM/?mibextid=wwXI
	fr" target="_blank">https://www.facebook.com/share/1Bb71fTMGM/?mibextid=ww
	XIfr</a><br>👉Steppaddict :<br><a href="https://www.facebook.com/Steppaddic
	tSoundSystem" target="_blank">https://www.facebook.com/SteppaddictSoundSys
	tem</a><br>👉 Melodub Sound System sonorisera la soirée 🔥<br><a href="https
	://www.facebook.com/profile.php?id=100063494530705" target="_blank">https:
	//www.facebook.com/profile.php?id=100063494530705</a><br>--<br>Quelques in
	fos pratiques :<br>📍 𝗖𝗼𝗺𝗽𝗹𝗲𝘅𝗲 𝗱𝘂 𝗟𝗼𝗰𝗵, 𝗗𝗮𝗺𝗴𝗮𝗻 (56750)<br>📅 25 Octobre 2025
	 / 20h à 2h<br>🎫 Billets d'entrée sur place (12€) ou en prévente (10€) sur
	 <a href="https://www.helloasso.com/.../evenements/vague-a-dub-4" target="
	_blank">https://www.helloasso.com/.../evenements/vague-a-dub-4</a><br>Prix
	 libre pour les moins de 10 ans<br>🍻 Buvette sur place avec bières locales
	 et softs<br>🍛 Restauration sur place<br>💳 Moyens de paiement acceptés : C
	B, espèces, chèques<br>👂 Bouchons d'oreilles et casques pour enfant à disp
	osition<br>⏰ Toute sortie est définitive après 22h<br>🚗 Parking gratuit de
	vant la salle (merci de privilégier le covoiturage 😉)<br>🐕 Les animaux ne 
	sont pas acceptés dans l'enceinte de l'événement<br>🍾 Objets dangereux et 
	alcool perso sont interdits<br>𝗠𝗲𝗿𝗰𝗶 𝗱'𝗲̂𝘁𝗿𝗲 𝗯𝗶𝗲𝗻𝘃𝗲𝗶𝗹𝗹𝗮𝗻𝘁.𝗲 𝗲𝘁 𝗿𝗲𝘀𝗽𝗲𝗰𝘁𝗲𝘂𝘅.
	𝘀𝗲 𝗲𝗻𝘃𝗲𝗿𝘀 𝗹𝗲𝘀 𝗯𝗲́𝗻𝗲́𝘃𝗼𝗹𝗲𝘀 𝗲𝘁 𝘁𝗼𝘂𝘁𝗲 𝗮𝘂𝘁𝗿𝗲 𝗽𝗲𝗿𝘀𝗼𝗻𝗻𝗲 𝗽𝗿𝗲́𝘀𝗲𝗻𝘁𝗲 𝗮̀ 𝗹𝗮 𝘀𝗼𝗶𝗿𝗲́𝗲 
	! 💛<br>--<br>🔗 𝘄𝘄𝘄.𝘃𝗮𝗴𝘂𝗲𝗮𝗯𝗼𝗻𝗱.𝗳𝗿</p>
BEGIN:VALARM
ACTION:DISPLAY
DESCRIPTION:💫 Soirée VAGUE A DUB #4 💫
TRIGGER:-PT1H
END:VALARM
END:VEVENT
END:VCALENDAR
