BEGIN:VCALENDAR
VERSION:2.0
CALSCALE:GREGORIAN
PRODID:adamgibbons/ics
METHOD:PUBLISH
X-PUBLISHED-TTL:PT1H
BEGIN:VEVENT
UID:113@dubagenda.top
SUMMARY:Soirée Sound System // Get Up All Stars
DTSTAMP:20260421T151717Z
DTSTART:20260116T180000Z
DTEND:20260116T230000Z
DESCRIPTION:📣 SOIRÉE SOUNDSYSTEM 📣 Notre campagne de don se poursuit avec u
	ne soirée\nSoundSystem vendredi 16 janvier à 19h au Solilab ✨ 🔥 RESERVE GR
	ATUITEMENT TA\nPLACE LIEN EN BIO 🔥 (Jauge limitée) Merci aux artistes de\n
	@mango_loco_sound_system @mokosoundsystem et Get Up All Stars qui rendent 
	cela\npossible 🙏🏻 Merci à @tinhikmou et @brasserie_smash qui nous permetten
	t de vous\nproposer de quoi vous réchauffer 🍻 Énorme big up à Cindy pour l
	'orga de la\nsoirée et merci à celleux qui viendront nous soutenir en fest
	oyant 💚\n#tongestcompte #association #nantes #soundsystem #nantesevent
URL:https://dubagenda.top/event/soiree-sound-system-get-up-all-stars
GEO:47.2011589;-1.5705507
LOCATION:44000 Nantes // Le Solilab - Rue de Saint-Domingue\, Sainte-Anne -
	 Zone portuaire\, Île de Nantes\, Nantes\, Loire-Atlantique\, Pays de la L
	oire\, France métropolitaine\, 44276\, France
STATUS:CONFIRMED
CATEGORIES:Nantes,2026,Sound System
X-ALT-DESC;FMTTYPE=text/html:<p>📣 SOIRÉE SOUNDSYSTEM 📣 Notre campagne de do
	n se poursuit avec une soirée SoundSystem vendredi 16 janvier à 19h au Sol
	ilab ✨ 🔥 RESERVE GRATUITEMENT TA PLACE LIEN EN BIO 🔥 (Jauge limitée) Merci
	 aux artistes de @mango_loco_sound_system @mokosoundsystem et Get Up All S
	tars qui rendent cela possible 🙏🏻 Merci à @tinhikmou et @brasserie_smash qu
	i nous permettent de vous proposer de quoi vous réchauffer 🍻 Énorme big up
	 à Cindy pour l'orga de la soirée et merci à celleux qui viendront nous so
	utenir en festoyant 💚 #tongestcompte #association #nantes #soundsystem #na
	ntesevent</p>
BEGIN:VALARM
ACTION:DISPLAY
DESCRIPTION:Soirée Sound System // Get Up All Stars
TRIGGER:-PT1H
END:VALARM
END:VEVENT
END:VCALENDAR
