BEGIN:VCALENDAR
VERSION:2.0
CALSCALE:GREGORIAN
PRODID:adamgibbons/ics
METHOD:PUBLISH
X-PUBLISHED-TTL:PT1H
BEGIN:VEVENT
UID:120@dubagenda.top
SUMMARY:Smile Illusion // Dub to Tekno
DTSTAMP:20260421T135057Z
DTSTART:20260214T170000Z
DTEND:20260215T010000Z
DESCRIPTION:Prépare-toi pour SMILE ILLUSION une immersion sonore unique où 
	les basses\nprofondes rencontrent les nappes hypnotiques ! Une soirée pens
	ée pour les\npassionnés de dub planant et d’acid envoûtant\, entre vibrati
	ons psychédéliques\net grooves lourds.\n⚠ évènement interdit au mineurs🔞 ⚠
	\n🔊 Au programme :\n• Dub roots & stepper : rythmes massifs\, delays infin
	is et ambiance cosmique.\n• Acid & mental : lignes acides\, kicks percutan
	ts et montée en transe\ncollective.\n• Live & DJ sets : artistes locaux et
	 invités sélectionnés pour un voyage sonore\nsans compromis.\n✨ Ambiance :
	\nVisuels psychédéliques\, projections\, décorations fluorescentes et scén
	ographie\nimmersive pour amplifier la sensation de plonger dans une autre 
	dimension.\n🥁 Esprit de la soirée :\nUn mélange de cultures\, une rencontr
	e entre la chaleur organique de la dub et\nl’intensité électronique de l’a
	cid. Un espace libre et bienveillant\, pensé pour\nvibrer ensemble jusqu’a
	u bout de la nuit.\n\n\n\nSMILE ILLUSION 🙂 Artiste #1 🙃 PROPADUB\n\nPROPAD
	UB est un projet musical dub / reggae roots ancré dans la culture sound\ns
	ystem. Entre basses profondes\, vibrations roots et sélections engagées\,\
	nPropadub fait résonner un dub puissant et authentique dans l'esprit du pa
	rtage.\n@propadub_sound_system [https://sssinstagram.com/en1#]
URL:https://dubagenda.top/event/smile-illusion-dub-to-tekno
GEO:46.7048347;-0.9879274
LOCATION:85110 Sigournais // Salle de l'Aubépin - Rue des Saint-Mars\, L'Ét
	rouflère\, Sigournais\, La Roche-sur-Yon\, Vendée\, Pays de la Loire\, Fra
	nce métropolitaine\, 85110\, France
STATUS:CONFIRMED
CATEGORIES:2026,85,Tekno,Sound System
X-ALT-DESC;FMTTYPE=text/html:<p>Prépare-toi pour SMILE ILLUSION une immersi
	on sonore unique où les basses profondes rencontrent les nappes hypnotique
	s ! Une soirée pensée pour les passionnés de dub planant et d’acid envoûta
	nt, entre vibrations psychédéliques et grooves lourds.<br>⚠ évènement inte
	rdit au mineurs🔞 ⚠<br>🔊 Au programme :<br>• Dub roots &amp; stepper : ryth
	mes massifs, delays infinis et ambiance cosmique.<br>• Acid &amp; mental :
	 lignes acides, kicks percutants et montée en transe collective.<br>• Live
	 &amp; DJ sets : artistes locaux et invités sélectionnés pour un voyage so
	nore sans compromis.<br>✨ Ambiance :<br>Visuels psychédéliques, projection
	s, décorations fluorescentes et scénographie immersive pour amplifier la s
	ensation de plonger dans une autre dimension.<br>🥁 Esprit de la soirée :<b
	r>Un mélange de cultures, une rencontre entre la chaleur organique de la d
	ub et l’intensité électronique de l’acid. Un espace libre et bienveillant,
	 pensé pour vibrer ensemble jusqu’au bout de la nuit.</p><p></p><p>SMILE I
	LLUSION 🙂 Artiste #1 🙃 PROPADUB </p><p>PROPADUB est un projet musical dub 
	/ reggae roots ancré dans la culture sound system. Entre basses profondes,
	 vibrations roots et sélections engagées, Propadub fait résonner un dub pu
	issant et authentique dans l'esprit du partage. <a target="_blank" href="h
	ttps://sssinstagram.com/en1#">@propadub_sound_system</a></p>
BEGIN:VALARM
ACTION:DISPLAY
DESCRIPTION:Smile Illusion // Dub to Tekno
TRIGGER:-PT1H
END:VALARM
END:VEVENT
END:VCALENDAR
