BEGIN:VCALENDAR
VERSION:2.0
CALSCALE:GREGORIAN
PRODID:adamgibbons/ics
METHOD:PUBLISH
X-PUBLISHED-TTL:PT1H
BEGIN:VEVENT
UID:128@dubagenda.top
SUMMARY:Skank'in Town #1 // Heartikal Vibes x Bassline Soldiers
DTSTAMP:20260421T141756Z
DTSTART:20260220T190000Z
DTEND:20260221T003000Z
DESCRIPTION:Skank’in Town #1\n\nDub Session incoming 👀\n\nHeartikal Vibes x
	 Bassline Soldiers\n\nUn nouveau lieu nous ouvre ses portes\, un repère de
	 la culture Sound System :\n@stony_safari 🍃\n\nPour nous accompagner dans 
	cette aventure\, on embarque les potos de\n@bassline_soldiers\n\nReggae to
	 UK Dub selection straight from the vineyard 🍇\n\nVendredi 20 Février 📆 20
	H - 1h30 🕢\n\nEntrée libre 🎫\n\nSound System Session 🔉\n\nArtwork : @chaza
	l.design [http://chazal.design]
URL:https://dubagenda.top/event/skankin-town-heartikal-vibes-x-bassline-sol
	diers
GEO:47.2111479;-1.5570379
LOCATION:44000 Nantes // Stony Safari - Allée de l'Île Gloriette\, Feydeau\
	, Gloriette - Feydeau\, Centre Ville\, Nantes\, Loire-Atlantique\, Pays de
	 la Loire\, France métropolitaine\, 44262\, France
STATUS:CONFIRMED
CATEGORIES:Nantes,2026,Sound System
X-ALT-DESC;FMTTYPE=text/html:<p>Skank’in Town #1 </p><p>Dub Session incomin
	g 👀 </p><p>Heartikal Vibes x Bassline Soldiers </p><p>Un nouveau lieu nous
	 ouvre ses portes, un repère de la culture Sound System : @stony_safari 🍃 
	</p><p>Pour nous accompagner dans cette aventure, on embarque les potos de
	 @bassline_soldiers </p><p>Reggae to UK Dub selection straight from the vi
	neyard 🍇 </p><p>Vendredi 20 Février 📆 20H - 1h30 🕢 </p><p>Entrée libre 🎫 <
	/p><p>Sound System Session 🔉 </p><p>Artwork : @<a target="_blank" href="ht
	tp://chazal.design">chazal.design</a></p>
BEGIN:VALARM
ACTION:DISPLAY
DESCRIPTION:Skank'in Town #1 // Heartikal Vibes x Bassline Soldiers
TRIGGER:-PT1H
END:VALARM
END:VEVENT
END:VCALENDAR
