BEGIN:VCALENDAR
VERSION:2.0
CALSCALE:GREGORIAN
PRODID:adamgibbons/ics
METHOD:PUBLISH
X-PUBLISHED-TTL:PT1H
BEGIN:VEVENT
UID:122@dubagenda.top
SUMMARY:Skank Rockers // Sub Rustik meets Ground Zags
DTSTAMP:20260421T151716Z
DTSTART:20260411T160000Z
DTEND:20260412T000000Z
DESCRIPTION:SKANK ROCKERS 🎛 Des montées de genoux en prévision pour cette p
	remière édition\ndans la salle Plessis Curé (Salle polyvalente) à Liré🔊En 
	compagnie des frangins\nGroundzags pour big meeting houleux💥Ça va brasser.
	 Billetterie en bio\nRéserves ton samedi!\nInfos pratiques:\n🎫Entrée 5 eur
	os en prévente 7 euros sur place\nSalle Plessis curé/ Salle polyvalente li
	ré Rue du Plessis Cure\, 49530 Orée\nd'Anjou\n18h-2h\n2x3 Bass\n🍴croque-mo
	nsieur
URL:https://dubagenda.top/event/skank-rockers-sub-rustik-meets-ground-zags
GEO:47.334364;-1.1734584
LOCATION:49530 Orée d'Anjou // Salle Liré - Rue du Plessis Curé\, L'Archaud
	e\, Liré\, Orée d'Anjou\, Cholet\, Maine-et-Loire\, Pays de la Loire\, Fra
	nce métropolitaine\, 49530\, France
STATUS:CONFIRMED
CATEGORIES:49,2026,Sound System
X-ALT-DESC;FMTTYPE=text/html:<p>SKANK ROCKERS 🎛 Des montées de genoux en pr
	évision pour cette première édition dans la salle Plessis Curé (Salle poly
	valente) à Liré🔊En compagnie des frangins Groundzags pour big meeting houl
	eux💥Ça va brasser. Billetterie en bio<br>Réserves ton samedi!<br>Infos pra
	tiques:<br>🎫Entrée 5 euros en prévente 7 euros sur place<br>Salle Plessis 
	curé/ Salle polyvalente liré Rue du Plessis Cure, 49530 Orée d'Anjou<br>18
	h-2h<br>2x3 Bass<br>🍴croque-monsieur</p>
BEGIN:VALARM
ACTION:DISPLAY
DESCRIPTION:Skank Rockers // Sub Rustik meets Ground Zags
TRIGGER:-PT1H
END:VALARM
END:VEVENT
END:VCALENDAR
