BEGIN:VCALENDAR
VERSION:2.0
CALSCALE:GREGORIAN
PRODID:adamgibbons/ics
METHOD:PUBLISH
X-PUBLISHED-TTL:PT1H
BEGIN:VEVENT
UID:23@dubagenda.top
SUMMARY:Shipyard Session
DTSTAMP:20260421T145839Z
DTSTART:20250830T160000Z
DTEND:20250830T230000Z
DESCRIPTION:Après avoir fait vibrer Rennes city\, Inna box cie. déménage su
	r Nantes avec le\nChicken inna box sound system. Pour inaugurer ça on vous
	 attend le 30 août au 21\nquai des Antilles pour cette première en terre N
	antaise. 2 stack de 2 subs\nparaflex maison pour jouer fondation\, counsci
	ous roots et uk vibe comme\nd'habitude.\nUn stack jouera à l'extérieur (vu
	 Loire !) de 18h à 22h\, l'autre prendra le\nrelais à l'intérieur de 22h à
	 00h.\nMerci pour votre soutien\, on espère que vous allez apprécier décou
	vrir notre\nsono artisanal et notre sélection!\nBlessings
URL:https://dubagenda.top/event/shipyard-session
GEO:47.2012309;-1.5728972
LOCATION:44200 Nantes // TDL - 21\, Quai des Antilles\, Sainte-Anne - Zone 
	portuaire\, Île de Nantes\, Nantes\, Loire-Atlantique\, Pays de la Loire\,
	 France métropolitaine\, 44200\, France
STATUS:CONFIRMED
CATEGORIES:2025,Nantes,Sound System
X-ALT-DESC;FMTTYPE=text/html:<p>Après avoir fait vibrer Rennes city, Inna b
	ox cie. déménage sur Nantes avec le Chicken inna box sound system. Pour in
	augurer ça on vous attend le 30 août au 21 quai des Antilles pour cette pr
	emière en terre Nantaise. 2 stack de 2 subs paraflex maison pour jouer fon
	dation, counscious roots et uk vibe comme d'habitude.<br>Un stack jouera à
	 l'extérieur (vu Loire !) de 18h à 22h, l'autre prendra le relais à l'inté
	rieur de 22h à 00h.<br>Merci pour votre soutien, on espère que vous allez 
	apprécier découvrir notre sono artisanal et notre sélection!<br>Blessings<
	/p>
BEGIN:VALARM
ACTION:DISPLAY
DESCRIPTION:Shipyard Session
TRIGGER:-PT1H
END:VALARM
END:VEVENT
END:VCALENDAR
