BEGIN:VCALENDAR
VERSION:2.0
CALSCALE:GREGORIAN
PRODID:adamgibbons/ics
METHOD:PUBLISH
X-PUBLISHED-TTL:PT1H
BEGIN:VEVENT
UID:143@dubagenda.top
SUMMARY:Shake This Dub // Faune Stepper & Fox In Dub
DTSTAMP:20260421T132910Z
DTSTART:20260314T190000Z
DTEND:20260315T010000Z
DESCRIPTION:L'association Shake House vous donne rendez-vous le samedi 14 m
	ars pour une\nnouvelle édition de Shake This Dub à la Ferme de Coueslé\, à
	 Allaire (56) !\nAu programme :\n🦊 Fox In Dub sound system\n🦌 Le Faune Ste
	pper\n🍻 Buvette et restauration sur place\nPrenez vos places dès maintenan
	t :\n7€ les préventes / 10€ sur place
URL:https://dubagenda.top/event/shake-this-dub-faune-stepper-and-fox-in-dub
GEO:47.6373348;-2.1525839
LOCATION:56350 Allaire // La Ferme de Couesle - Hinlès\, Allaire\, Vannes\,
	 Morbihan\, Bretagne\, France métropolitaine\, 56350\, France
STATUS:CONFIRMED
CATEGORIES:56,2026,Sound System
X-ALT-DESC;FMTTYPE=text/html:<p>L'association Shake House vous donne rendez
	-vous le samedi 14 mars pour une nouvelle édition de Shake This Dub à la F
	erme de Coueslé, à Allaire (56) !<br>Au programme :<br>🦊 Fox In Dub sound 
	system<br>🦌 Le Faune Stepper<br>🍻 Buvette et restauration sur place<br>Pre
	nez vos places dès maintenant :<br>7€ les préventes / 10€ sur place</p>
BEGIN:VALARM
ACTION:DISPLAY
DESCRIPTION:Shake This Dub // Faune Stepper & Fox In Dub
TRIGGER:-PT1H
END:VALARM
END:VEVENT
END:VCALENDAR
