BEGIN:VCALENDAR
VERSION:2.0
CALSCALE:GREGORIAN
PRODID:adamgibbons/ics
METHOD:PUBLISH
X-PUBLISHED-TTL:PT1H
BEGIN:VEVENT
UID:126@dubagenda.top
SUMMARY:Selecta Atof
DTSTAMP:20260421T190201Z
DTSTART:20260129T183000Z
DTEND:20260129T213000Z
DESCRIPTION:A la dernière minute !!! Selecta Atof étant présent ce soir à N
	antes\, on en\nprofite pour croiser les bacs pour une session Chill and Re
	cords dans notre 2eme\nmaison\, Au Bon Coin...\nPour tous ceux qui n'avaie
	nt rien de prévu ce soir\, rally round !
URL:https://dubagenda.top/event/selecta-atof
GEO:47.2218334;-1.5593342
LOCATION:44000 Nantes // Au Bon Coin - Rue Yves Bodiguel\, Talensac\, Talen
	sac - Pont Morand\, Hauts-Pavés - Saint-Félix\, Nantes\, Loire-Atlantique\
	, Pays de la Loire\, France métropolitaine\, 44000\, France
STATUS:CONFIRMED
CATEGORIES:Nantes,2026
X-ALT-DESC;FMTTYPE=text/html:<p>A la dernière minute !!! Selecta Atof étant
	 présent ce soir à Nantes, on en profite pour croiser les bacs pour une se
	ssion Chill and Records dans notre 2eme maison, Au Bon Coin...<br>Pour tou
	s ceux qui n'avaient rien de prévu ce soir, rally round !</p>
BEGIN:VALARM
ACTION:DISPLAY
DESCRIPTION:Selecta Atof
TRIGGER:-PT1H
END:VALARM
END:VEVENT
END:VCALENDAR
