BEGIN:VCALENDAR
VERSION:2.0
CALSCALE:GREGORIAN
PRODID:adamgibbons/ics
METHOD:PUBLISH
X-PUBLISHED-TTL:PT1H
BEGIN:VEVENT
UID:191@dubagenda.top
SUMMARY:Sauv' qui peut #2 // Tinaa & more on Mango Loco Sound System
DTSTAMP:20260421T135558Z
DTSTART:20260508T140000Z
DTEND:20260509T000000Z
DESCRIPTION:🔥 SAUV’ QUI PEUT #2 🔥\n\n💥 Une deuxième édition plus grande\, p
	lus ouverte\, plus vivante. SAUV’ QUI PEUT\,\nc’est plusieurs copains — jo
	yeux zonards — qui créent des espaces pour se\nretrouver\, danser\, et fai
	re vivre une culture libre\, engagée et collective. En\nlien avec d’autres
	 associations\, et grâce à des soutiens bénévoles\, on construit\ndes évén
	ements dans une ambiance bienveillante et consciente\, en lutte contre\nto
	utes les formes de discriminations — avec une idée simple : diffuser de la
	\njoie\, du son et de l’amour.\n\n🔥 Retrouve-nous et viens danser avec nou
	s\n\n👉 Vendredi 8 MAI — dès 16h\n\n📍 Quai des Chap — Nantes\n\n🖌️@lucettela
	piquette
URL:https://dubagenda.top/event/sauv-qui-peut-2-tinaa-and-more-on-mango-loc
	o-sound-system
GEO:47.2465568;-1.497463
LOCATION:44300 Nantes // Quai des Chaps - Route de Sainte-Luce\, Le Bois Br
	iand\, Doulon - Bottière\, Nantes\, Loire-Atlantique\, Pays de la Loire\, 
	France métropolitaine\, 44305\, France
STATUS:CONFIRMED
CATEGORIES:Nantes,2026,Sound System,soutien
X-ALT-DESC;FMTTYPE=text/html:<p>🔥 SAUV’ QUI PEUT #2 🔥 </p><p>💥 Une deuxième
	 édition plus grande, plus ouverte, plus vivante. SAUV’ QUI PEUT, c’est pl
	usieurs copains — joyeux zonards — qui créent des espaces pour se retrouve
	r, danser, et faire vivre une culture libre, engagée et collective. En lie
	n avec d’autres associations, et grâce à des soutiens bénévoles, on constr
	uit des événements dans une ambiance bienveillante et consciente, en lutte
	 contre toutes les formes de discriminations — avec une idée simple : diff
	user de la joie, du son et de l’amour. </p><p>🔥 Retrouve-nous et viens dan
	ser avec nous </p><p>👉 Vendredi 8 MAI — dès 16h </p><p>📍 Quai des Chap — N
	antes </p><p>🖌️@lucettelapiquette</p>
BEGIN:VALARM
ACTION:DISPLAY
DESCRIPTION:Sauv' qui peut #2 // Tinaa & more on Mango Loco Sound System
TRIGGER:-PT1H
END:VALARM
END:VEVENT
END:VCALENDAR
