BEGIN:VCALENDAR
VERSION:2.0
CALSCALE:GREGORIAN
PRODID:adamgibbons/ics
METHOD:PUBLISH
X-PUBLISHED-TTL:PT1H
BEGIN:VEVENT
UID:156@dubagenda.top
SUMMARY:Run Come Dance #5 // Dub Dealing meets Youth Collective
DTSTAMP:20260421T134346Z
DTSTART:20260418T180000Z
DTEND:20260419T010000Z
DESCRIPTION:On est de retour avec cette cinquième soirée Run Come Dance\, c
	ette fois ci sound\nmeeting style avec nos amis @youthcollective.sound de 
	Nantes 🦏🔥 7h de session\nà partager sur nos full sonos respectives\, pour 
	les 7 années depuis notre\ndernier soundsystem meeting. Rendez vous à Bell
	e île dans 2mois\, vous connaissez\nl’adresse\, on vous attend en forme ⚡️ 
	Plus d’informations dans les semaines à\nvenir\, stay tuned @360_records_b
	elleile in da place 💿
URL:https://dubagenda.top/event/run-come-dance-5-dub-dealing-meets-youth-co
	llective
GEO:47.3440624;-3.155041
LOCATION:56360 Le Palais // Espace Culturel Arletty - 3\, Rue de l'Esprit\,
	 Port-Hallan\, Le Palais\, Lorient\, Morbihan\, Bretagne\, France métropol
	itaine\, 56360\, France
STATUS:CONFIRMED
CATEGORIES:56,2026,Sound System
X-ALT-DESC;FMTTYPE=text/html:<p>On est de retour avec cette cinquième soiré
	e Run Come Dance, cette fois ci sound meeting style avec nos amis @youthco
	llective.sound de Nantes 🦏🔥 7h de session à partager sur nos full sonos re
	spectives, pour les 7 années depuis notre dernier soundsystem meeting. Ren
	dez vous à Belle île dans 2mois, vous connaissez l’adresse, on vous attend
	 en forme ⚡️ Plus d’informations dans les semaines à venir, stay tuned @360
	_records_belleile in da place 💿</p>
BEGIN:VALARM
ACTION:DISPLAY
DESCRIPTION:Run Come Dance #5 // Dub Dealing meets Youth Collective
TRIGGER:-PT1H
END:VALARM
END:VEVENT
END:VCALENDAR
