BEGIN:VCALENDAR
VERSION:2.0
CALSCALE:GREGORIAN
PRODID:adamgibbons/ics
METHOD:PUBLISH
X-PUBLISHED-TTL:PT1H
BEGIN:VEVENT
UID:22@dubagenda.top
SUMMARY:Run Come Dance #3  // Charlie P
DTSTAMP:20260421T153227Z
DTSTART:20250816T170000Z
DTEND:20250817T013000Z
DESCRIPTION:L’association Dub Dealing vous convie à la prochaine Run Come D
	ance #3\, Samedi\n16 août à la salle Arletty à partir de 19h avec MALIMAN\
	, INDUHMAN & CHARLIE P\n(live band) on Dub Dealing Soundsystem 🚀\n\nBar et
	 Restauration sur place : CURRY VERT VG du food truck CHÉ BÉA 🍹🥒\n\nSoirée
	 interdite au -16 ans. Carte d’identité obligatoire à l’entrée.\n\n\n\n📣 S
	AMEDI SOIR / SALLE ARLETTY : ouverture à 19h (en open air) de notre Run Co
	me\nDance #3.\n\nImpatients de vous retrouver pour cette soirée avec CHARL
	IE P (live show) /\nMALIMAN / Induh Man ! 🥁\n\nChé Béa vous proposera sur 
	place un Curry vert\, lait de coco vegan (protéines de\nsoja)\, riz & cour
	gettes crues citronnées. Farandoles de dessert au menu ! 🍋\n\nNos bénévole
	s d’amour vous attendront au bar dès 19h pour vous hydrater et\nréguler vo
	tre température corporelle 🍹🌞💃\n\nLast call pour prendre sa prévente à tar
	if réduit ! Ça se remplit vite les\nderniers temps\, n’hésitez pas assurer
	 votre place et celle de votre copain.ine\n🎫\n\n
URL:https://dubagenda.top/event/run-come-dance-3-charlie-p
GEO:47.3440624;-3.155041
LOCATION:56360 Le Palais / Belle-Île - 3\, Rue de l'Esprit\, Port-Hallan\, 
	Le Palais\, Lorient\, Morbihan\, Bretagne\, France métropolitaine\, 56360\
	, France
STATUS:CONFIRMED
CATEGORIES:2025,Bretagne,56,Sound System
X-ALT-DESC;FMTTYPE=text/html:<p>L’association Dub Dealing vous convie à la 
	prochaine Run Come Dance #3, Samedi 16 août à la salle Arletty à partir de
	 19h avec MALIMAN, INDUHMAN &amp; CHARLIE P (live band) on Dub Dealing Sou
	ndsystem 🚀<br><br>Bar et Restauration sur place : CURRY VERT VG du food tr
	uck CHÉ BÉA 🍹🥒<br><br>Soirée interdite au -16 ans. Carte d’identité obliga
	toire à l’entrée. </p><p></p><p>📣 SAMEDI SOIR / SALLE ARLETTY : ouverture 
	à 19h (en open air) de notre Run Come Dance #3. </p><p>Impatients de vous 
	retrouver pour cette soirée avec CHARLIE P (live show) / MALIMAN / Induh M
	an  ! 🥁 </p><p>Ché Béa vous proposera sur place un Curry vert, lait de coc
	o vegan (protéines de soja), riz &amp; courgettes crues citronnées. Farand
	oles de dessert au menu ! 🍋</p><p>Nos bénévoles d’amour vous attendront au
	 bar dès 19h pour vous hydrater et réguler votre température corporelle 🍹🌞
	💃</p><p>Last call pour prendre sa prévente à tarif réduit ! Ça se remplit 
	vite les derniers temps, n’hésitez pas assurer votre place et celle de vot
	re copain.ine 🎫</p><p></p>
BEGIN:VALARM
ACTION:DISPLAY
DESCRIPTION:Run Come Dance #3  // Charlie P
TRIGGER:-PT1H
END:VALARM
END:VEVENT
END:VCALENDAR
